BEGIN:VCALENDAR
VERSION:2.0
PRODID:-//wp-events-plugin.com//7.2.3.1//EN
TZID:Europe/Berlin
X-WR-TIMEZONE:Europe/Berlin
BEGIN:VEVENT
UID:845@hiig.de
DTSTART;TZID=Europe/Berlin;VALUE=DATE:20200817
DTEND;TZID=Europe/Berlin;VALUE=DATE:20200818
DTSTAMP:20201211T123003Z
URL:https://www.hiig.de/events/auftaktveranstaltung-zum-projekt-ethik-der-
 digitalisierung/
SUMMARY:Auftaktveranstaltung zum Projekt “Ethik der Digitalisierung”
DESCRIPTION:Zum Auftakt des Projekts\, das von der Mercator Stiftung geför
 dert wird\, lädt Bundespräsident Frank-Walter Steinmeier zu einer Konfer
 enz ins Schloss Bellevue.
ATTACH;FMTTYPE=image/jpeg:https://www.hiig.de/wp-content/uploads/2020/06/n
 asa-Q1p7bh3SHj8-unsplash.jpg
CATEGORIES:Auftaktveranstaltung
LOCATION:Livestream\, hiig.de\, Berlin\, Deutschland
X-APPLE-STRUCTURED-LOCATION;VALUE=URI;X-ADDRESS=hiig.de\, Berlin\, Deutschl
 and;X-APPLE-RADIUS=100;X-TITLE=Livestream:geo:0,0
END:VEVENT
BEGIN:VTIMEZONE
TZID:Europe/Berlin
X-LIC-LOCATION:Europe/Berlin
BEGIN:DAYLIGHT
DTSTART:20200329T030000
TZOFFSETFROM:+0100
TZOFFSETTO:+0200
TZNAME:CEST
END:DAYLIGHT
END:VTIMEZONE
END:VCALENDAR