BEGIN:VCALENDAR
VERSION:2.0
PRODID:-//wp-events-plugin.com//7.2.3.1//EN
TZID:Europe/Berlin
X-WR-TIMEZONE:Europe/Berlin
BEGIN:VEVENT
UID:1063@hiig.de
DTSTART;TZID=Europe/Berlin:20221207T130000
DTEND;TZID=Europe/Berlin:20221207T140000
DTSTAMP:20221206T094146Z
URL:https://www.hiig.de/events/ask-an-expert-platform-governance/
SUMMARY:Ask an Expert: (Ent-)Demokratisierung von Online-Kommunikationsräu
 men?
DESCRIPTION:Wir laden Journalist*innen zu einer Q&A-Runde zu den aktuellen 
 Entwicklungen im Bereich (Ent-)Demokratisierung von Online-Kommunikationsr
 äumen ein.
ATTACH;FMTTYPE=image/jpeg:https://www.hiig.de/wp-content/uploads/2022/11/d
 lxmedia-hu-ljnwOfYboGc-unsplash-scaled.jpg
LOCATION:Zoom\, hiig.de\, Berlin\, Deutschland
X-APPLE-STRUCTURED-LOCATION;VALUE=URI;X-ADDRESS=hiig.de\, Berlin\, Deutschl
 and;X-APPLE-RADIUS=100;X-TITLE=Zoom:geo:0,0
END:VEVENT
BEGIN:VTIMEZONE
TZID:Europe/Berlin
X-LIC-LOCATION:Europe/Berlin
BEGIN:STANDARD
DTSTART:20221030T020000
TZOFFSETFROM:+0200
TZOFFSETTO:+0100
TZNAME:CET
END:STANDARD
END:VTIMEZONE
END:VCALENDAR