BEGIN:VCALENDAR
VERSION:2.0
PRODID:-//wp-events-plugin.com//7.2.3.1//EN
TZID:Europe/Berlin
X-WR-TIMEZONE:Europe/Berlin
BEGIN:VEVENT
UID:898@hiig.de
DTSTART;TZID=Europe/Berlin:20210414T150000
DTEND;TZID=Europe/Berlin:20210414T163000
DTSTAMP:20220228T121017Z
URL:https://www.hiig.de/events/andrew-burt-data-cyberspace-and-the-dangers
 -of-the-digital-world/
SUMMARY:Digital Future Talk: Andrew Burt on Data\, Cyberspace\, and the Dan
 gers of the Digital World
DESCRIPTION:Digital Future Talk - Livestream mit Andrew Burt (Yale Universi
 ty)\, der über die Schwachstellen der Digitalen Welt in Bezug auf Daten u
 nd Cyberspace sprechen wird. Die Veranstaltung findet auf Englisch statt.
ATTACH;FMTTYPE=image/jpeg:https://www.hiig.de/wp-content/uploads/2021/03/e
 v-gpjvRZyavZc-unsplash-scaled.jpg
CATEGORIES:Meetup: Impact of Science,Themen im Fokus
LOCATION:Livestream\, hiig.de\, Berlin\, Deutschland
X-APPLE-STRUCTURED-LOCATION;VALUE=URI;X-ADDRESS=hiig.de\, Berlin\, Deutschl
 and;X-APPLE-RADIUS=100;X-TITLE=Livestream:geo:0,0
END:VEVENT
BEGIN:VTIMEZONE
TZID:Europe/Berlin
X-LIC-LOCATION:Europe/Berlin
BEGIN:DAYLIGHT
DTSTART:20210328T030000
TZOFFSETFROM:+0100
TZOFFSETTO:+0200
TZNAME:CEST
END:DAYLIGHT
END:VTIMEZONE
END:VCALENDAR