BEGIN:VCALENDAR
VERSION:2.0
PRODID:-//wp-events-plugin.com//7.2.3.1//EN
TZID:Europe/Berlin
X-WR-TIMEZONE:Europe/Berlin
BEGIN:VEVENT
UID:914@hiig.de
DTSTART;TZID=Europe/Berlin:20210610T130000
DTEND;TZID=Europe/Berlin:20210610T140000
DTSTAMP:20220228T121102Z
URL:https://www.hiig.de/events/ai-and-work-lunch-talk/
SUMMARY:Artificial Intelligence & Work – Lunch Talk
DESCRIPTION:In diesem zweiten Lunch-Talk gehen wir der Frage nach\, wie For
 scher*innen den Einsatz von Künstlicher Intelligenz (KI) im Arbeitsumfeld
  aus verschiedenen Perspektiven untersuchen können.
ATTACH;FMTTYPE=image/jpeg:https://www.hiig.de/wp-content/uploads/2021/05/d
 ebby-hudson-WAxqlEm8Cj0-unsplash-2-scaled.jpg
CATEGORIES:Themen im Fokus
LOCATION:Livestream\, hiig.de\, Berlin\, Deutschland
X-APPLE-STRUCTURED-LOCATION;VALUE=URI;X-ADDRESS=hiig.de\, Berlin\, Deutschl
 and;X-APPLE-RADIUS=100;X-TITLE=Livestream:geo:0,0
END:VEVENT
BEGIN:VTIMEZONE
TZID:Europe/Berlin
X-LIC-LOCATION:Europe/Berlin
BEGIN:DAYLIGHT
DTSTART:20210328T030000
TZOFFSETFROM:+0100
TZOFFSETTO:+0200
TZNAME:CEST
END:DAYLIGHT
END:VTIMEZONE
END:VCALENDAR