BEGIN:VCALENDAR
VERSION:2.0
PRODID:-//wp-events-plugin.com//7.2.3.1//EN
TZID:Europe/Berlin
X-WR-TIMEZONE:Europe/Berlin
BEGIN:VEVENT
UID:1008@hiig.de
DTSTART;TZID=Europe/Berlin:20220725T133000
DTEND;TZID=Europe/Berlin:20220725T173000
DTSTAMP:20230424T130749Z
URL:https://www.hiig.de/events/afrika-policies-fuer-faireres-gig-working/
SUMMARY:Policies towards fairer online gig work
DESCRIPTION:Im Rahmen dieses Multi-Stakeholder-Dialoges werden Ansätze und
  Lösungen zur Regulierung der Gig-Economy in Ghana erarbeitet.
ATTACH;FMTTYPE=image/jpeg:https://www.hiig.de/wp-content/uploads/2022/07/s
 cott-webb-5xXKOWWUu7I-unsplash-Cropped-scaled.jpg
LOCATION:Marriott Hotel Accra\, Liberation Road\, Accra\, Ghana\, Ghana
X-APPLE-STRUCTURED-LOCATION;VALUE=URI;X-ADDRESS=Liberation Road\, Accra\, G
 hana\, Ghana;X-APPLE-RADIUS=100;X-TITLE=Marriott Hotel Accra:geo:0,0
END:VEVENT
BEGIN:VTIMEZONE
TZID:Europe/Berlin
X-LIC-LOCATION:Europe/Berlin
BEGIN:DAYLIGHT
DTSTART:20220327T030000
TZOFFSETFROM:+0100
TZOFFSETTO:+0200
TZNAME:CEST
END:DAYLIGHT
END:VTIMEZONE
END:VCALENDAR