BEGIN:VCALENDAR
VERSION:2.0
PRODID:-//wp-events-plugin.com//7.2.3.1//EN
TZID:Europe/Berlin
X-WR-TIMEZONE:Europe/Berlin
BEGIN:VEVENT
UID:37@hiig.de
DTSTART;TZID=Europe/Berlin:20131121T090000
DTEND;TZID=Europe/Berlin:20131121T183000
DTSTAMP:20180605T081000Z
URL:https://www.hiig.de/events/12286/
SUMMARY:Early Stage Researchers Colloquium 2013
DESCRIPTION:Am 21. November veranstalten wir zum zweiten mal unser jährlic
 hes Kolloquium\, das Berlin Early Stage Researchers Colloquium on Internet
  and Society 2013\, und laden dazu herzlich ein.
ATTACH;FMTTYPE=image/jpeg:https://www.hiig.de/wp-content/uploads/2013/06/n
 athan-dumlao-572049-unsplash-Cropped.jpg
CATEGORIES:Early Stage Researchers Colloquium
LOCATION:Friedrich-Ebert-Stiftung e.V.\, Hiroshimastraße 17 \, Berlin \, 1
 0785\, Deutschland
X-APPLE-STRUCTURED-LOCATION;VALUE=URI;X-ADDRESS=Hiroshimastraße 17 \, Berl
 in \, 10785\, Deutschland;X-APPLE-RADIUS=100;X-TITLE=Friedrich-Ebert-Stift
 ung e.V.:geo:0,0
END:VEVENT
BEGIN:VTIMEZONE
TZID:Europe/Berlin
X-LIC-LOCATION:Europe/Berlin
BEGIN:STANDARD
DTSTART:20131027T020000
TZOFFSETFROM:+0200
TZOFFSETTO:+0100
TZNAME:CET
END:STANDARD
END:VTIMEZONE
END:VCALENDAR