BEGIN:VCALENDAR
VERSION:2.0
PRODID:-//wp-events-plugin.com//7.2.3.1//EN
TZID:Europe/Berlin
X-WR-TIMEZONE:Europe/Berlin
BEGIN:VEVENT
UID:1267@hiig.de
DTSTART;TZID=Europe/Berlin:20240723T120000
DTEND;TZID=Europe/Berlin:20240723T180000
DTSTAMP:20240716T143957Z
URL:https://www.hiig.de/en/events/xviith-interdisciplinary-workshop-privac
 y-data-protection-surveillance/
SUMMARY:XVIIth Interdisciplinary Workshop »Privacy\, Data Protection & Sur
 veillance«
DESCRIPTION:The workshop will discuss current research in the research fiel
 d of privacy\, surveillance\, and data protection.
ATTACH;FMTTYPE=image/jpeg:https://www.hiig.de/wp-content/uploads/2024/04/p
 hoto-data.jpeg
LOCATION:Humboldt Institute for Internet and Society\, Französische Straß
 e 9\, Berlin\, 10117\, Germany
X-APPLE-STRUCTURED-LOCATION;VALUE=URI;X-ADDRESS=Französische Straße 9\, B
 erlin\, 10117\, Germany;X-APPLE-RADIUS=100;X-TITLE=Humboldt Institute for 
 Internet and Society:geo:0,0
END:VEVENT
BEGIN:VTIMEZONE
TZID:Europe/Berlin
X-LIC-LOCATION:Europe/Berlin
BEGIN:DAYLIGHT
DTSTART:20240331T030000
TZOFFSETFROM:+0100
TZOFFSETTO:+0200
TZNAME:CEST
END:DAYLIGHT
END:VTIMEZONE
END:VCALENDAR