BEGIN:VCALENDAR
VERSION:2.0
PRODID:-//wp-events-plugin.com//7.2.3.1//EN
TZID:Europe/Berlin
X-WR-TIMEZONE:Europe/Berlin
BEGIN:VEVENT
UID:1195@hiig.de
DTSTART;TZID=Europe/Berlin:20231212T120000
DTEND;TZID=Europe/Berlin:20231212T180000
DTSTAMP:20231101T135436Z
URL:https://www.hiig.de/en/events/xvi-interdisciplinary-workshop-privacy-d
 ata-protection-surveillance/
SUMMARY:XVI. Interdisciplinary Workshop: Privacy\, Data Protection & Survei
 llance
DESCRIPTION:The workshop will discuss current research in the research fiel
 d of privacy\, surveillance\, and data protection.
ATTACH;FMTTYPE=image/jpeg:https://www.hiig.de/wp-content/uploads/2023/05/p
 hoto-data.jpeg
LOCATION:Humboldt Institute for Internet and Society\, Französische Straß
 e 9\, Berlin\, 10117\, Germany
X-APPLE-STRUCTURED-LOCATION;VALUE=URI;X-ADDRESS=Französische Straße 9\, B
 erlin\, 10117\, Germany;X-APPLE-RADIUS=100;X-TITLE=Humboldt Institute for 
 Internet and Society:geo:0,0
END:VEVENT
BEGIN:VTIMEZONE
TZID:Europe/Berlin
X-LIC-LOCATION:Europe/Berlin
BEGIN:STANDARD
DTSTART:20231029T020000
TZOFFSETFROM:+0200
TZOFFSETTO:+0100
TZNAME:CET
END:STANDARD
END:VTIMEZONE
END:VCALENDAR