BEGIN:VCALENDAR
VERSION:2.0
PRODID:-//wp-events-plugin.com//7.2.3.1//EN
TZID:Europe/Berlin
X-WR-TIMEZONE:Europe/Berlin
BEGIN:VEVENT
UID:985@hiig.de
DTSTART;TZID=Europe/Berlin:20220705T130000
DTEND;TZID=Europe/Berlin:20220705T190000
DTSTAMP:20220705T095810Z
URL:https://www.hiig.de/en/events/xiii-interdisciplinary-workshop/
SUMMARY:XIII. Interdisciplinary Workshop "Privacy\, Data Protection & Surve
 illance"
DESCRIPTION:The Thirteenth Interdisciplinary Workshop “Privacy\, Data Pro
 tection & Surveillance” is taking place on 5 Juli 2022.
ATTACH;FMTTYPE=image/jpeg:https://www.hiig.de/wp-content/uploads/2021/09/p
 hoto-data.jpeg
CATEGORIES:Exploring Digital Spheres
LOCATION:Humboldt Institute for Internet and Society\, Französische Straß
 e 9\, Berlin\, 10117\, Germany
X-APPLE-STRUCTURED-LOCATION;VALUE=URI;X-ADDRESS=Französische Straße 9\, B
 erlin\, 10117\, Germany;X-APPLE-RADIUS=100;X-TITLE=Humboldt Institute for 
 Internet and Society:geo:0,0
END:VEVENT
BEGIN:VTIMEZONE
TZID:Europe/Berlin
X-LIC-LOCATION:Europe/Berlin
BEGIN:DAYLIGHT
DTSTART:20220327T030000
TZOFFSETFROM:+0100
TZOFFSETTO:+0200
TZNAME:CEST
END:DAYLIGHT
END:VTIMEZONE
END:VCALENDAR