BEGIN:VCALENDAR
VERSION:2.0
PRODID:-//wp-events-plugin.com//7.2.3.1//EN
TZID:Europe/Berlin
X-WR-TIMEZONE:Europe/Berlin
BEGIN:VEVENT
UID:1036@hiig.de
DTSTART;TZID=Europe/Berlin:20221020T160000
DTEND;TZID=Europe/Berlin:20221020T193000
DTSTAMP:20220913T160636Z
URL:https://www.hiig.de/en/events/workshop-ii-artificial-thinking-explaine
 d-in-human-terms/
SUMMARY:Workshop II Artificial thinking explained in human terms
DESCRIPTION:Within this workshop we will look at artificial thinking and ho
 w we can explain it in human terms.
ATTACH;FMTTYPE=image/jpeg:https://www.hiig.de/wp-content/uploads/2022/09/W
 ebsite_Banner_Call-for-Workshop-Collaboration_München_Nemetschek-Stiftun
 g-–-1.png
LOCATION:Gesellschaftsraum neuland & gestalten\, Buttermelcherstraße 15\, 
 München\, 80469\, Germany
X-APPLE-STRUCTURED-LOCATION;VALUE=URI;X-ADDRESS=Buttermelcherstraße 15\, M
 ünchen\, 80469\, Germany;X-APPLE-RADIUS=100;X-TITLE=Gesellschaftsraum neu
 land & gestalten:geo:0,0
END:VEVENT
BEGIN:VTIMEZONE
TZID:Europe/Berlin
X-LIC-LOCATION:Europe/Berlin
BEGIN:DAYLIGHT
DTSTART:20220327T030000
TZOFFSETFROM:+0100
TZOFFSETTO:+0200
TZNAME:CEST
END:DAYLIGHT
END:VTIMEZONE
END:VCALENDAR