BEGIN:VCALENDAR
VERSION:2.0
PRODID:-//wp-events-plugin.com//7.2.3.1//EN
TZID:Europe/Berlin
X-WR-TIMEZONE:Europe/Berlin
BEGIN:VEVENT
UID:581@hiig.de
DTSTART;TZID=Europe/Berlin:20180904T120000
DTEND;TZID=Europe/Berlin:20180904T160000
DTSTAMP:20180829T140547Z
URL:https://www.hiig.de/en/events/workshop-from-spotify-to-youtube-legal-p
 otentials-and-challenges-for-music-platforms/
SUMMARY:From Spotify to YouTube – Potentials and Challenges for Music Pla
 tforms
DESCRIPTION:Online platforms have disrupted the music business. Users of st
 reaming services such as Spotify enjoy the comfort and vast music selectio
 n\, and streaming revenue has [...]
ATTACH;FMTTYPE=image/jpeg:https://www.hiig.de/wp-content/uploads/2018/05/M
 usicCopyrightReihe_04-Consumer-–-16zu9-en.png
CATEGORIES:Exploring Digital Spheres
LOCATION:Humboldt Institute for Internet and Society\, Französische Straß
 e 9\, Berlin\, 10117\, Germany
X-APPLE-STRUCTURED-LOCATION;VALUE=URI;X-ADDRESS=Französische Straße 9\, B
 erlin\, 10117\, Germany;X-APPLE-RADIUS=100;X-TITLE=Humboldt Institute for 
 Internet and Society:geo:0,0
END:VEVENT
BEGIN:VTIMEZONE
TZID:Europe/Berlin
X-LIC-LOCATION:Europe/Berlin
BEGIN:DAYLIGHT
DTSTART:20180325T030000
TZOFFSETFROM:+0100
TZOFFSETTO:+0200
TZNAME:CEST
END:DAYLIGHT
END:VTIMEZONE
END:VCALENDAR