BEGIN:VCALENDAR
VERSION:2.0
PRODID:-//wp-events-plugin.com//7.2.3.1//EN
TZID:Europe/Berlin
X-WR-TIMEZONE:Europe/Berlin
BEGIN:VEVENT
UID:242@hiig.de
DTSTART;TZID=Europe/Berlin:20150623T180000
DTEND;TZID=Europe/Berlin:20150623T193000
DTSTAMP:20150617T102403Z
URL:https://www.hiig.de/en/events/werkstattgespraech-with-cornelia-rogall-
 grothe/
SUMMARY:Werkstattgespräch with Cornelia Rogall-Grothe
DESCRIPTION:The Werkstattgepräche is a lecture series held at the juridica
 l faculty of the Humboldt Universität zu Berlin. Selected speakers shed l
 ight on different topics around Internet law and current challenges of a d
 igitalised society. The lecture will be held in German\, please find more 
 information below. We kindly ask for registration.\n\n\n\nDer IT Planungsr
 at und die Digitalisierung von Staat und Verwaltung in Deutschland und Eur
 opa\nCornelia Rogall-Grothe\, Staatssekretärin im Bundesministerium des I
 nnern\nDienstag 23.06.2015 ab 18:00 Uhr s.t.\nDas Kolloquium soll auf der 
 Basis einer Einführung in die Funktionsweise des Internets Einblick in di
 e wichtigsten Rechtsgebiete und aktuellen Rechtsfragen zum Internet bieten
  Ausgewählte Experten aus Wissenschaft und Praxis werden in einem Vortrag
  das jeweilige Thema aus ihrem Blickwinkel beleuchten\, um damit eine Grun
 dlage für die Diskussion zu geben. Für einzelne Themen wird relevante ei
 nführende Literatur im Voraus elektronisch zur Verfügung gestellt. Auf d
 ieser Basis sollen sich die Teilnehmer zu jedem Termin vorbereiten\, so da
 ss eine intensive Diskussion möglich wird. Ein thematisches Protokoll wir
 d im Anschluss an jede Sitzung erstellt und den Teilnehmern als Erinnerung
 sstütze zugänglich gemacht.\n\nDas als Schwerpunktveranstaltung an der j
 uristischen Fakultät angebotene Kolloquium ist auch für die Fachöffentl
 ichkeit geöffnet. Prof. Ingolf Pernice bietet dieses gemeinsam mit Dr. Wi
 lfried Bernhardt an\, der viele Jahre im BMJ und bis 2014 als Staatssekret
 är im Justiz- und Europaministerium Sachsens für Fragen von e-government
  und e-justice zuständig war\, im IT-Planungsrat mitgewirkt und die deuts
 che Stimme zur Digitalen Agenda der EU mit geprägt hat.\n\nDer Kurs wird 
 als Einheit angeboten\; die Teilnahme am gesamten Zyklus ist wegen der Gru
 ppendynamik erwünscht\, aber nicht zwingend. Interessenten werden gebeten
 \, sich hier verbindlich anzumelden.
CATEGORIES:Exploring Digital Spheres
LOCATION:Raum 213\, Juristische Fakultät\, HU Berlin\, Unter den Linden 9\
 , Berlin\, 10117\, Germany
X-APPLE-STRUCTURED-LOCATION;VALUE=URI;X-ADDRESS=Unter den Linden 9\, Berlin
 \, 10117\, Germany;X-APPLE-RADIUS=100;X-TITLE=Raum 213\, Juristische Fakul
 tät\, HU Berlin:geo:0,0
END:VEVENT
BEGIN:VTIMEZONE
TZID:Europe/Berlin
X-LIC-LOCATION:Europe/Berlin
BEGIN:DAYLIGHT
DTSTART:20150329T030000
TZOFFSETFROM:+0100
TZOFFSETTO:+0200
TZNAME:CEST
END:DAYLIGHT
END:VTIMEZONE
END:VCALENDAR