BEGIN:VCALENDAR
VERSION:2.0
PRODID:-//wp-events-plugin.com//7.2.3.1//EN
TZID:Europe/Berlin
X-WR-TIMEZONE:Europe/Berlin
BEGIN:VEVENT
UID:244@hiig.de
DTSTART;TZID=Europe/Berlin:20150630T180000
DTEND;TZID=Europe/Berlin:20150630T193000
DTSTAMP:20150630T081940Z
URL:https://www.hiig.de/en/events/werkstattgespraech-mit-bertold-huber/
SUMMARY:Werkstattgespräch with Bertold Huber
DESCRIPTION:The Werkstattgespräche is a lecture series held at the juridic
 al faculty of the Humboldt Universität zu Berlin. Selected speakers shed 
 light on different topics around Internet law and current challenges of a 
 digitalised society. The lecture will be held in German\, please find more
  information below. We kindly ask for registration.\n\n\nÜberwachung der 
 Überwacher: Auftrag und Grenzen der Möglichkeiten des Parlamentarischer 
 Kontrollgremiums und der G10-Kommission\nBerthold Huber\, Vors. Richter am
  VG a.D.\, Frankfurt a. M.\,\nStellv. Vors. der G10-Kommission des 18. Deu
 tschen Bundestages\nDienstag 30.06.2015 ab 18:00 Uhr s.t.\nDas Kolloquium 
 soll auf der Basis einer Einführung in die Funktionsweise des Internets E
 inblick in die wichtigsten Rechtsgebiete und aktuellen Rechtsfragen zum In
 ternet bieten Ausgewählte Experten aus Wissenschaft und Praxis werden in 
 einem Vortrag das jeweilige Thema aus ihrem Blickwinkel beleuchten\, um da
 mit eine Grundlage für die Diskussion zu geben. Für einzelne Themen wird
  relevante einführende Literatur im Voraus elektronisch zur Verfügung ge
 stellt. Auf dieser Basis sollen sich die Teilnehmer zu jedem Termin vorber
 eiten\, so dass eine intensive Diskussion möglich wird. Ein thematisches 
 Protokoll wird im Anschluss an jede Sitzung erstellt und den Teilnehmern a
 ls Erinnerungsstütze zugänglich gemacht.\n\nDas als Schwerpunktveranstal
 tung an der juristischen Fakultät angebotene Kolloquium ist auch für die
  Fachöffentlichkeit geöffnet. Prof. Ingolf Pernice bietet dieses gemeins
 am mit Dr. Wilfried Bernhardt an\, der viele Jahre im BMJ und bis 2014 als
  Staatssekretär im Justiz- und Europaministerium Sachsens für Fragen von
  e-government und e-justice zuständig war\, im IT-Planungsrat mitgewirkt 
 und die deutsche Stimme zur Digitalen Agenda der EU mit geprägt hat.\n\nD
 er Kurs wird als Einheit angeboten\; die Teilnahme am gesamten Zyklus ist 
 wegen der Gruppendynamik erwünscht\, aber nicht zwingend. Interessenten w
 erden gebeten\, sich hier verbindlich anzumelden.
CATEGORIES:Exploring Digital Spheres
LOCATION:Humboldt-Universität zu Berlin | Lecture hall R. 2091\, Unter den
  Linden 6\, Berlin\, 10117\, Germany
X-APPLE-STRUCTURED-LOCATION;VALUE=URI;X-ADDRESS=Unter den Linden 6\, Berlin
 \, 10117\, Germany;X-APPLE-RADIUS=100;X-TITLE=Humboldt-Universität zu Ber
 lin | Lecture hall R. 2091:geo:0,0
END:VEVENT
BEGIN:VTIMEZONE
TZID:Europe/Berlin
X-LIC-LOCATION:Europe/Berlin
BEGIN:DAYLIGHT
DTSTART:20150329T030000
TZOFFSETFROM:+0100
TZOFFSETTO:+0200
TZNAME:CEST
END:DAYLIGHT
END:VTIMEZONE
END:VCALENDAR