BEGIN:VCALENDAR
VERSION:2.0
PRODID:-//wp-events-plugin.com//7.2.3.1//EN
TZID:Europe/Berlin
X-WR-TIMEZONE:Europe/Berlin
BEGIN:VEVENT
UID:522@hiig.de
DTSTART;TZID=Europe/Berlin:20180410T120000
DTEND;TZID=Europe/Berlin:20180410T180000
DTSTAMP:20191118T094841Z
URL:https://www.hiig.de/en/events/vi-interdisciplinary-workshop-privacy-da
 ta-protection-surveillance-bochum-edition/
SUMMARY:VI. Interdisciplinary Workshop: Privacy\, Data Protection & Surveil
 lance (Bochum Edition)
DESCRIPTION:The Institute for International Law of Peace and Armed Conflict
  (IFHV)\, in cooperation with the Alexander von Humboldt Institute for In
 ternet and Society\, kindly invites for the VI. Interdisciplinary Workshop
  Privacy\, Data Protection &amp\; Surveillance taking place on 10 April 20
 18 at the Institute’s premises in Bochum. The workshop will be held in G
 erman\, but you are very welcome to give your presentation in English. Bel
 ow you will find more information about the workshop in German.\n\n\nVI. I
 NTERDISCIPLINARY WORKSHOP: PRIVACY\, DATA PROTECTION &amp\; SURVEILLANCE\n
 Institute for International Law of Peace and Armed Conflict (IFHV)\nMassen
 bergstraße 9 B | 44787 Bochum\n10 April 2018 | 12 am - 6 pm\nInteresse? 
 Hier anmelden!\nDer sechste\, erstmalig außerhalb von Berlin stattfindend
 e Workshop in der Reihe „Privacy\, Data Protection &amp\; Surveillance
 “\, bietet erneut vor allem jungen Wissenschaftler*innen die Gelegenheit
 \, aktuelle Forschungsarbeiten aus dem sehr breiten und diversen Forschung
 sfeld Privacy\, Surveillance und Datenschutz in einer interdisziplinären 
 Runde vorzustellen und zu diskutieren. Wir freuen uns über Aufsatzprojekt
 e und Dissertationsvorhaben\, theoretische und empirische Arbeiten\, Analy
 sen ebenso wie Lösungsvorschläge – und es darf sich ausdrücklich um 
 „work in progress“ handeln. Neben der Diskussion über offene Forschun
 gsfragen soll auf dem Workshop eine kritische Reflexion der Prämissen der
  eigenen Forschung\, der eigenen Theorieschule(n) und der eigenen Diszipli
 n(en) im Vordergrund stehen.\nTeilnahme\nSollten Sie Interesse haben\, an 
 der Veranstaltung teilzunehmen\, möchten wir Sie bitten\, bis spätestens
  Freitag\, den 30.03.2018 das Anmeldeformular auszufüllen und dem IFHV zu
 zusenden. Dabei bitten wir Sie anzugeben\, ob Sie als Hörer*in oder Redne
 r*in teilnehmen möchten. Redner*innen werden zusätzlich gebeten\, bei ih
 rer Anmeldung einen Titel und ein Abstract (ca. 400 Wörter) des Vortrags\
 , der max. 15 Minuten dauern sollte\, anzugeben.\n\nGerne können Sie auch
  Angaben zu Ihren Disziplinen\, Interessengebieten und Forschungsschwerpun
 kten machen. Innerhalb der grundlegenden Thematik sind Sie vollkommen frei
 \, Ihren Bereich zu wählen und einen Schwerpunkt zu setzen. Zum Versenden
  des Formulars nutzen Sie bitte die Senden-Funktion oder schicken Sie das 
 Formular an stephan.kolossa@rub.de. Das Workshop-Programm wird allen angem
 eldeten Teilnehmer*innen bis zum 04.04.2018 zugehen.\n\nWir freuen uns seh
 r auf Ihr Kommen und Ihre Beiträge.\nTermine\n\n\n\n30.03.2018\nAnmeldesc
 hluss\n\n\n13.11.2017\nProgramm des Workshops\n\n\n10.04.2018\n Workshop\
 n\n\n\n&nbsp\;\n\nFür Fragen wenden Sie sich bitte an: stephan.kolossa@ru
 b.de\nWorkshops in dieser Reihe\n\n 	Bericht vom interdisziplinären Works
 hop “Privacy\, Datenschutz &amp\; Surveillance” am 04.12.2015\n 	Beric
 ht vom II. Interdisziplinären Workshop “Privacy\, Datenschutz &amp\; Su
 rveillance” am 30.06.2016\n 	Bericht vom III. Interdisziplinären Worksh
 op “Privacy\, Datenschutz &amp\; Surveillance am 09.12.2016\n 	Privacy\,
  Datenschutz &amp\; Surveillance – Die umstrittene Einwilligung. Bericht
  vom IV. Interdisziplinären Workshop am 29.06.2017\n 	Bewährungsproben f
 ür das Datenschutzrecht. Bericht vom V. Interdisziplinären Workshop am 0
 5.12.2017\n
ATTACH;FMTTYPE=image/jpeg:https://www.hiig.de/wp-content/uploads/2018/02/b
 ild1111.png
CATEGORIES:Issues in Focus
END:VEVENT
BEGIN:VTIMEZONE
TZID:Europe/Berlin
X-LIC-LOCATION:Europe/Berlin
BEGIN:DAYLIGHT
DTSTART:20180325T030000
TZOFFSETFROM:+0100
TZOFFSETTO:+0200
TZNAME:CEST
END:DAYLIGHT
END:VTIMEZONE
END:VCALENDAR