BEGIN:VCALENDAR
VERSION:2.0
PRODID:-//wp-events-plugin.com//7.2.3.1//EN
TZID:Europe/Berlin
X-WR-TIMEZONE:Europe/Berlin
BEGIN:VEVENT
UID:735@hiig.de
DTSTART;TZID=Europe/Berlin:20191001T183000
DTEND;TZID=Europe/Berlin:20191001T203000
DTSTAMP:20190930T144803Z
URL:https://www.hiig.de/en/events/translating-science-whats-good-and-whats
 -not/
SUMMARY:Translating Science: What’s good and what’s not?
DESCRIPTION:Researchers are more and more expected to help solving problems
  faced by the society and replenish public debates with evidence and exper
 tise.
ATTACH;FMTTYPE=image/jpeg:https://www.hiig.de/wp-content/uploads/2019/09/d
 oors-1767563_1920.jpg
CATEGORIES:Exploring Digital Spheres,Issues in Focus,Meetup: Impact of
 Science,Meetup: Impact of Science
LOCATION:Humboldt Institute for Internet and Society\, Französische Straß
 e 9\, Berlin\, 10117\, Germany
X-APPLE-STRUCTURED-LOCATION;VALUE=URI;X-ADDRESS=Französische Straße 9\, B
 erlin\, 10117\, Germany;X-APPLE-RADIUS=100;X-TITLE=Humboldt Institute for 
 Internet and Society:geo:0,0
END:VEVENT
BEGIN:VTIMEZONE
TZID:Europe/Berlin
X-LIC-LOCATION:Europe/Berlin
BEGIN:DAYLIGHT
DTSTART:20190331T030000
TZOFFSETFROM:+0100
TZOFFSETTO:+0200
TZNAME:CEST
END:DAYLIGHT
END:VTIMEZONE
END:VCALENDAR