BEGIN:VCALENDAR
VERSION:2.0
PRODID:-//wp-events-plugin.com//7.2.3.1//EN
TZID:Europe/Berlin
X-WR-TIMEZONE:Europe/Berlin
BEGIN:VEVENT
UID:466@hiig.de
DTSTART;TZID=Europe/Berlin:20170927T130000
DTEND;TZID=Europe/Berlin:20170927T140000
DTSTAMP:20170830T091757Z
URL:https://www.hiig.de/en/events/translating-critical-perspectives-on-tec
 hnology-lunch-talk-with-zara-rahman/
SUMMARY:Translating critical perspectives on technology – Lunch talk with
  Zara Rahman
DESCRIPTION:Zara Rahman will talk about the importance of building bridges 
 between civil society and researchers thinking critically about technology
  and data.
CATEGORIES:Exploring Digital Spheres
LOCATION:Humboldt Institute for Internet and Society\, Französische Straß
 e 9\, Berlin\, 10117\, Germany
X-APPLE-STRUCTURED-LOCATION;VALUE=URI;X-ADDRESS=Französische Straße 9\, B
 erlin\, 10117\, Germany;X-APPLE-RADIUS=100;X-TITLE=Humboldt Institute for 
 Internet and Society:geo:0,0
END:VEVENT
BEGIN:VTIMEZONE
TZID:Europe/Berlin
X-LIC-LOCATION:Europe/Berlin
BEGIN:DAYLIGHT
DTSTART:20170326T030000
TZOFFSETFROM:+0100
TZOFFSETTO:+0200
TZNAME:CEST
END:DAYLIGHT
END:VTIMEZONE
END:VCALENDAR