BEGIN:VCALENDAR
VERSION:2.0
PRODID:-//wp-events-plugin.com//7.2.3.1//EN
TZID:Europe/Berlin
X-WR-TIMEZONE:Europe/Berlin
BEGIN:VEVENT
UID:447@hiig.de
DTSTART;TZID=Europe/Berlin:20170719T130000
DTEND;TZID=Europe/Berlin:20170719T140000
DTSTAMP:20170714T184738Z
URL:https://www.hiig.de/en/events/towards-p2p-online-voting-protocols-lunc
 h-talk-with-robert-riemann/
SUMMARY:Towards P2P Online Voting Protocols – Lunch talk with Robert Riem
 ann
DESCRIPTION:Robert Riemann is a visiting researcher at the HIIG. He carries
  out his doctoral studies in the area of online voting and develops theref
 ore a dezentralised protocol that takes inspiration from BitTorrent and Bi
 tcoin. In comparison to conventional online voting protocols\, no complex 
 cryptography and no central database is employed. As a result\, new opport
 unities emerge for trust building and mitigation of attacks.
CATEGORIES:Exploring Digital Spheres
LOCATION:Humboldt Institute for Internet and Society\, Französische Straß
 e 9\, Berlin\, 10117\, Germany
X-APPLE-STRUCTURED-LOCATION;VALUE=URI;X-ADDRESS=Französische Straße 9\, B
 erlin\, 10117\, Germany;X-APPLE-RADIUS=100;X-TITLE=Humboldt Institute for 
 Internet and Society:geo:0,0
END:VEVENT
BEGIN:VTIMEZONE
TZID:Europe/Berlin
X-LIC-LOCATION:Europe/Berlin
BEGIN:DAYLIGHT
DTSTART:20170326T030000
TZOFFSETFROM:+0100
TZOFFSETTO:+0200
TZNAME:CEST
END:DAYLIGHT
END:VTIMEZONE
END:VCALENDAR