BEGIN:VCALENDAR
VERSION:2.0
PRODID:-//wp-events-plugin.com//7.2.3.1//EN
TZID:Europe/Berlin
X-WR-TIMEZONE:Europe/Berlin
BEGIN:VEVENT
UID:844@hiig.de
DTSTART;TZID=Europe/Berlin:20200826T190000
DTEND;TZID=Europe/Berlin:20200826T200000
DTSTAMP:20201207T112722Z
URL:https://www.hiig.de/en/events/the-troll-next-door-2/
SUMMARY:Digitaler Salon: The troll next door
DESCRIPTION:In August\, we will talk about how our online discussions diff
 er from personal conversations. The talk will be held in German.
ATTACH;FMTTYPE=image/jpeg:https://www.hiig.de/wp-content/uploads/2020/07/d
 igitale-debatte-website.jpg
CATEGORIES:Talk series: Digitaler Salon
LOCATION:Livestream\, hiig.de\, Berlin\, Germany
X-APPLE-STRUCTURED-LOCATION;VALUE=URI;X-ADDRESS=hiig.de\, Berlin\, Germany;
 X-APPLE-RADIUS=100;X-TITLE=Livestream:geo:0,0
END:VEVENT
BEGIN:VTIMEZONE
TZID:Europe/Berlin
X-LIC-LOCATION:Europe/Berlin
BEGIN:DAYLIGHT
DTSTART:20200329T030000
TZOFFSETFROM:+0100
TZOFFSETTO:+0200
TZNAME:CEST
END:DAYLIGHT
END:VTIMEZONE
END:VCALENDAR