BEGIN:VCALENDAR
VERSION:2.0
PRODID:-//wp-events-plugin.com//7.2.3.1//EN
TZID:Europe/Berlin
X-WR-TIMEZONE:Europe/Berlin
BEGIN:VEVENT
UID:812@hiig.de
DTSTART;TZID=Europe/Berlin:20200525T190000
DTEND;TZID=Europe/Berlin:20200525T203000
DTSTAMP:20200603T090056Z
URL:https://www.hiig.de/en/events/the-role-of-humans-in-an-age-of-intellig
 ent-machines/
SUMMARY:Joanna Bryson: The role of humans in an age of intelligent machines
DESCRIPTION:Artificial intelligence (AI) and the information age are bringi
 ng us more information about ourselves and each other than any society has
  ever known. What are the limits of AI? Of intelligence and humanity more 
 broadly? What are our ethical obligations to machines? 
ATTACH;FMTTYPE=image/jpeg:https://www.hiig.de/wp-content/uploads/2020/05/B
 anner_Bryson-80.png
CATEGORIES:Making sense of the digital society
LOCATION:Livestream\, hiig.de\, Berlin\, Germany
X-APPLE-STRUCTURED-LOCATION;VALUE=URI;X-ADDRESS=hiig.de\, Berlin\, Germany;
 X-APPLE-RADIUS=100;X-TITLE=Livestream:geo:0,0
END:VEVENT
BEGIN:VTIMEZONE
TZID:Europe/Berlin
X-LIC-LOCATION:Europe/Berlin
BEGIN:DAYLIGHT
DTSTART:20200329T030000
TZOFFSETFROM:+0100
TZOFFSETTO:+0200
TZNAME:CEST
END:DAYLIGHT
END:VTIMEZONE
END:VCALENDAR