BEGIN:VCALENDAR
VERSION:2.0
PRODID:-//wp-events-plugin.com//7.2.3.1//EN
TZID:Europe/Berlin
X-WR-TIMEZONE:Europe/Berlin
BEGIN:VEVENT
UID:586@hiig.de
DTSTART;TZID=Europe/Berlin:20180620T130000
DTEND;TZID=Europe/Berlin:20180620T140000
DTSTAMP:20180614T145450Z
URL:https://www.hiig.de/en/events/the-politics-of-patterns-lunch-talk-with
 -mareile-kaufmann/
SUMMARY:The Politics of Patterns - Lunch talk with Mareile Kaufmann
DESCRIPTION:Mareile Kaufmann wants to offer you a new angle on the debate a
 bout big data\, small data and predictive analytics in the context of poli
 cing.
ATTACH;FMTTYPE=image/jpeg:https://www.hiig.de/wp-content/uploads/2018/05/b
 ag-bags-brown-21436-Cropped.jpg
CATEGORIES:Exploring Digital Spheres
LOCATION:Humboldt Institute for Internet and Society\, Französische Straß
 e 9\, Berlin\, 10117\, Germany
X-APPLE-STRUCTURED-LOCATION;VALUE=URI;X-ADDRESS=Französische Straße 9\, B
 erlin\, 10117\, Germany;X-APPLE-RADIUS=100;X-TITLE=Humboldt Institute for 
 Internet and Society:geo:0,0
END:VEVENT
BEGIN:VTIMEZONE
TZID:Europe/Berlin
X-LIC-LOCATION:Europe/Berlin
BEGIN:DAYLIGHT
DTSTART:20180325T030000
TZOFFSETFROM:+0100
TZOFFSETTO:+0200
TZNAME:CEST
END:DAYLIGHT
END:VTIMEZONE
END:VCALENDAR