BEGIN:VCALENDAR
VERSION:2.0
PRODID:-//wp-events-plugin.com//7.2.3.1//EN
TZID:Europe/Berlin
X-WR-TIMEZONE:Europe/Berlin
BEGIN:VEVENT
UID:675@hiig.de
DTSTART;TZID=Europe/Berlin:20190424T183000
DTEND;TZID=Europe/Berlin:20190424T210000
DTSTAMP:20190510T155419Z
URL:https://www.hiig.de/en/events/talk-digitaler-salon-e-dentifiziert/
SUMMARY:Talk | Digitaler Salon: E-dentifiziert?
DESCRIPTION:Once a month\, we publicly discuss the impact of digitalisation
  on society at Digitaler Salon. We invite special guests\, engage in a dia
 logue with the audience and the Twitter community and broadcast it on YouT
 ube. In April\, we talk about digital identities: Citizenships could also 
 soon be digitalised. Will this enable us to take new forms of political pa
 rticipation and thus strengthen European democracy? Below you will find m
 ore detailed information in German.\n\n&nbsp\;\n\nE-dentifiziert? Auch Sta
 atsbürgerschaften könnten bald digitalisiert werden. Ermöglicht uns das
  neue Formen der Partizipation und stärkt so die europäische Demokratie?
 \n\n&nbsp\;\nDigitaler Salon – E-dentifiziert?\n24.04.2019 | 19.00 Uhr |
  HIIG | Französische Straße 9 | 10117 Berlin\n&nbsp\;\n\nEin Leben ohne 
 Demokratie kann sich kaum jemand in Europa vorstellen und doch steht sie a
 uf wackeligen Beinen. Fridays for future\, save the internet und gelbe Wes
 ten: Viele BürgerInnen tragen ihren Unmut über politische Entscheidungen
  auf der einen und Forderungen für mehr Mitspracherecht auf der anderen S
 eite ins Netz und auf die Straße. Ein wichtiger Hoffnungsträger bleibt w
 eiterhin ein inklusives\, ermächtigendes Netz. Auch Staatsbürgerschaften
  könnten bald digitalisiert und innoviert werden. Ermöglicht uns das neu
 e Formen der Partizipation und stärkt so die europäische Demokratie? Mit
  dieser großen Frage möchte der Digitale Salon kurz vor der Europawahl d
 iskutieren\, welche Chancen sich durch e-Identity und Onlineabstimmung erg
 eben.\n&nbsp\;\n\n\n\n&nbsp\;\n\nDie Moderatorin Sophia Wetzke diskutiert 
 mit:\n\n 	Damian Boeselager\, Vice President Volt\nKai Gärtner\, Projektl
 eiter DECiDe\n 	Kai Wagner\, Business Developer Jolocom\n\nDie Einführung
  in das Thema übernimmt Vivien Hard\, studentische Mitarbeiterin im Proje
 kt „Partizipation auf digitalen Plattformen“ am HIIG.\n\n&nbsp\;\n[pho
 tospace ids="59084\,59086\,59088\,59090\,59092\,59094\,59096\,59098\,59100
 \,59102\,59104\,59106\,59108"]\n&nbsp\;\n\nDer Digitale Salon öffnet ab 1
 8:30 Uhr seine Türen. Ab 19:00 Uhr wird die Sendung live auf hiig.de übe
 rtragen. Dann heißt es mitmachen – vor Ort und per Twitter via #DigSal.
  Der Digitale Salon findet jeden letzten Mittwoch im Monat unter einer and
 eren Fragestellung statt. Aufzeichnungen vergangener Digitaler Salons und 
 mehr Informationen finden Sie hier.\n\nFür den Digitalen Salon ist keine
  Registrierung erforderlich.\n\n
ATTACH;FMTTYPE=image/jpeg:https://www.hiig.de/wp-content/uploads/2019/03/e
 -dentifiziert_16x9.jpg
CATEGORIES:Talk series: Digitaler Salon
LOCATION:Humboldt Institute for Internet and Society\, Französische Straß
 e 9\, Berlin\, 10117\, Germany
X-APPLE-STRUCTURED-LOCATION;VALUE=URI;X-ADDRESS=Französische Straße 9\, B
 erlin\, 10117\, Germany;X-APPLE-RADIUS=100;X-TITLE=Humboldt Institute for 
 Internet and Society:geo:0,0
END:VEVENT
BEGIN:VTIMEZONE
TZID:Europe/Berlin
X-LIC-LOCATION:Europe/Berlin
BEGIN:DAYLIGHT
DTSTART:20190331T030000
TZOFFSETFROM:+0100
TZOFFSETTO:+0200
TZNAME:CEST
END:DAYLIGHT
END:VTIMEZONE
END:VCALENDAR