BEGIN:VCALENDAR
VERSION:2.0
PRODID:-//wp-events-plugin.com//7.2.3.1//EN
TZID:Europe/Berlin
X-WR-TIMEZONE:Europe/Berlin
BEGIN:VEVENT
UID:654@hiig.de
DTSTART;TZID=Europe/Berlin:20190227T183000
DTEND;TZID=Europe/Berlin:20190227T210000
DTSTAMP:20190305T151555Z
URL:https://www.hiig.de/en/events/talk-digitaler-salon-daddelbusiness/
SUMMARY:Talk | Digitaler Salon: Daddelbusiness
DESCRIPTION:Once a month\, we publicly discuss the impact of digitalization
  on society at Digitaler Salon. We invite special guests\, engage in a dia
 logue with the audience and the Twitter community and broadcast it on YouT
 ube. Forget about LAN parties! On 27 February\, we will talk about eSport 
 filling entire arenas. What began as a hobby is now a profession. Are game
 rs on their way to the Olympics soon?\n\nDaddelbusiness. LAN-Partys waren 
 gestern – eSport füllt längst ganze Arenen. Was als Hobby begann\, ist
  heute Beruf. Und schon bald auf dem Weg zu Olympia?\n\n&nbsp\;\n\n\nDigit
 aler Salon – Daddelbusiness\n27.02.2019 | 19.00 Uhr | HIIG | Französisc
 he Straße 9 | 10117 Berlin\n&nbsp\;\n\nSie hängen immer in ihren Zockerh
 öhlen ab und verdaddeln nur ihre Zeit? Die Mär der GamerInnen ist schon 
 lange Geschichte. eSport füllt ganze Arenen\, bildet Profiabteilungen aus
  und ist nicht zuletzt ein Millionengeschäft. Was als belächeltes Hobby 
 begann\, ist heute Fulltime-Business – mit ebenso großen Ambitionen wie
  Kontroversen: Sind die virtuellen Wettkämpfe wirklich Sport? Möglicherw
 eise ist bei Olympia schon bald nach dem 100m-Sprint Finale die Entscheidu
 ng in „League of Legends“ zu sehen. Inwieweit ist es bedenklich\, stun
 denlanges Zocken derart zu professionalisieren? Wohin führt die zunehmend
 e Kommerzialisierung und wie ist es möglich\, mit ein paar Controlerkombi
 nationen so viel Geld zu verdienen? Und wie steht es um den Anteil der Gam
 erinnen in der Szene? \n\n&nbsp\;\n\nDie Moderatorin Katja Weber diskuti
 erte mit:\n\n 	Kristin Banse\, Agentur freaks4u\, eSports Journalistin\n 	
 Hans Jagnow\, eSport-Bund Deutschland\, Präsident\n 	Leonard Langenscheid
 t\, BITKRAFT\, Unterstützer von eSport-Startups\n\nDie Einführung in das
  Thema übernahm Lies van Roessel\, assoziierte Forscherin und Games-Expe
 rtin am HIIG.\n\n&nbsp\;\n\n[photospace ids="57242\,57244\,57246\,57248\,5
 7250\,57252\,57254\,57256\,57258\,57260\,57262\,57264\,57266\,57268"]\n\n&
 nbsp\;\n\nDer Digitale Salon öffnet ab 18:30 Uhr seine Türen. Ab 19:00 U
 hr wird die Sendung live auf hiig.de übertragen. Dann heißt es mitmachen
  – vor Ort und per Twitter via #DigSal. Der Digitale Salon findet jeden 
 letzten Mittwoch im Monat unter einer anderen Fragestellung statt. Aufzeic
 hnungen vergangener Digitaler Salons und mehr Informationen finden Sie hie
 r.\n\nFür den Digitalen Salon ist keine Registrierung erforderlich.\n\n
ATTACH;FMTTYPE=image/jpeg:https://www.hiig.de/wp-content/uploads/2019/01/d
 addelbusiness_16x9_neuneu.png
CATEGORIES:Talk series: Digitaler Salon
LOCATION:Humboldt Institute for Internet and Society\, Französische Straß
 e 9\, Berlin\, 10117\, Germany
X-APPLE-STRUCTURED-LOCATION;VALUE=URI;X-ADDRESS=Französische Straße 9\, B
 erlin\, 10117\, Germany;X-APPLE-RADIUS=100;X-TITLE=Humboldt Institute for 
 Internet and Society:geo:0,0
END:VEVENT
BEGIN:VTIMEZONE
TZID:Europe/Berlin
X-LIC-LOCATION:Europe/Berlin
BEGIN:STANDARD
DTSTART:20181028T020000
TZOFFSETFROM:+0200
TZOFFSETTO:+0100
TZNAME:CET
END:STANDARD
END:VTIMEZONE
END:VCALENDAR