BEGIN:VCALENDAR
VERSION:2.0
PRODID:-//wp-events-plugin.com//7.2.3.1//EN
TZID:Europe/Berlin
X-WR-TIMEZONE:Europe/Berlin
BEGIN:VEVENT
UID:766@hiig.de
DTSTART;TZID=Europe/Berlin:20200213T183000
DTEND;TZID=Europe/Berlin:20200213T220000
DTSTAMP:20220228T114236Z
URL:https://www.hiig.de/en/events/sybille-kraemer-cultural-history-of-digi
 tisation/
SUMMARY:Sybille Krämer: Cultural history of digitisation
DESCRIPTION:It is often assumed that digitisation and computer technology a
 re inseparably linked. However\, digitality is part of a much older cultur
 al history\, namely the symbols and signs that people have been inventing 
 and developing since the first cave paintings\, the first characters and m
 athematical symbols humans used to describe\, structure and share their wo
 rld. Digitisation thus did not come through machine technology\, but rathe
 r through early symbolization practices. In this light\, the alphabet is a
  prototype of a digital system\, but also all the counting systems that qu
 antify and make our world comparable. In her lecture\, the philosopher Syb
 ille Krämer therefore tries to dissolve the connection between digitisati
 on and computer technology in order to understand why digitalisation can p
 enetrate our lives and our society so quickly and so profoundly. In fact\,
  there are answers to the questions “What is the meaning of digital?” 
 and “What is the meaning of digitalisation?” that reach beyond compute
 r technology.\n\n\n\n&nbsp\;\n\n\n\n&nbsp\;\nSybille Krämer: Cultural His
 tory of Digitisation\nThursday\, 13 February 2020 | 7 pm | Doors open 18:3
 0 pm\nHAU 1 | Stresemannstraße 29 | 10963 Berlin\n&nbsp\;\n\nSybille Krä
 mer is professor emeritus of philosophy at Freie Universität Berlin and i
 s senior professor at Leuphana Universität Lüneburg since March 2019. Sh
 e has been a member of the German Council of Science and Humanities\, a pe
 rmanent fellow at the Wissenschaftskolleg zu Berlin\, and a panel member o
 f the European Research Council. Her research areas include epistemology\;
  philosophy of language\, writing\, and image\; symbolic machines\; and di
 gitisation as a cultural technique. \n\nYou can download the Handout here
 .\nAgenda\n\n\n\n18:30\n  Doors open\n\n\n19:00 – 19:15\n  Welcome and
  introduction\n\n\n19:15 – 20:00\n  Cultural History of Digitisation \
 n  Sybille Krämer (Leuphana Universität Lüneburg)\n\n\n20:00 – 21:00
 \n  Moderated discussion and questions from the audience\n\n\n\n21:00 –
  22:00\n  Get-together\n\n\n\n&nbsp\;\n\nThe event will be held in German
  and simultaneously translated into English.\n\nFor press accreditation\, 
 please contact Tanja Zagel.\n\nThis event will be recorded and broadcasted
  live. By signing up you consent to be photographed\, filmed and/or otherw
 ise recorded during the event and to the use of the content in connection 
 with the promotion and public relations of the event.\n\n&nbsp\;\nMaking S
 ense of the Digital Society\n\n\nThe current rapid pace of technological c
 hange creates enormous uncertainties - and thus the need for explanations 
 that help us better understand our situation and shape the future. The Ale
 xander von Humboldt Institute for Internet and Society (HIIG) and the Fede
 ral Agency for Civic Education (bpb) are therefore continuing the Lecture 
 Series Making Sense of the Digital Society that was launched in 2017. The
  aim of the format is to develop a European perspective on the current pro
 cesses of transformation and its societal impact. The first speaker of thi
 s year's series is the Philosopher Sybille Krämer\n\n\n&nbsp\;\nRegistrat
 ion\n
ATTACH;FMTTYPE=image/jpeg:https://www.hiig.de/wp-content/uploads/2020/01/B
 anner_Krämern_ENG-80.png
CATEGORIES:Making sense of the digital society
LOCATION:HAU Hebbel am Ufer (HAU 1)\, Stresemannstraße 29\, Berlin\, 10963
 \, Germany
X-APPLE-STRUCTURED-LOCATION;VALUE=URI;X-ADDRESS=Stresemannstraße 29\, Berl
 in\, 10963\, Germany;X-APPLE-RADIUS=100;X-TITLE=HAU Hebbel am Ufer (HAU 1)
 :geo:0,0
END:VEVENT
BEGIN:VTIMEZONE
TZID:Europe/Berlin
X-LIC-LOCATION:Europe/Berlin
BEGIN:STANDARD
DTSTART:20191027T020000
TZOFFSETFROM:+0200
TZOFFSETTO:+0100
TZNAME:CET
END:STANDARD
END:VTIMEZONE
END:VCALENDAR