BEGIN:VCALENDAR
VERSION:2.0
PRODID:-//wp-events-plugin.com//7.2.3.1//EN
TZID:Europe/Berlin
X-WR-TIMEZONE:Europe/Berlin
BEGIN:VEVENT
UID:464@hiig.de
DTSTART;TZID=Europe/Berlin:20170906T130000
DTEND;TZID=Europe/Berlin:20170906T140000
DTSTAMP:20170830T091944Z
URL:https://www.hiig.de/en/events/social-media-governance-freedom-expressi
 on-lunch-talk-chiara-poletti/
SUMMARY:Researching Social Media governance and freedom of expression – L
 unch talk with Chiara Poletti
DESCRIPTION:Can SMPs be a space of free expression? The question relates no
 t only to diverse ideals of governance of digital spaces but also to the d
 ifferent regimes of freedoms and restrictions that can be realised through
  legislation and technology.
CATEGORIES:Exploring Digital Spheres
LOCATION:Humboldt Institute for Internet and Society\, Französische Straß
 e 9\, Berlin\, 10117\, Germany
X-APPLE-STRUCTURED-LOCATION;VALUE=URI;X-ADDRESS=Französische Straße 9\, B
 erlin\, 10117\, Germany;X-APPLE-RADIUS=100;X-TITLE=Humboldt Institute for 
 Internet and Society:geo:0,0
END:VEVENT
BEGIN:VTIMEZONE
TZID:Europe/Berlin
X-LIC-LOCATION:Europe/Berlin
BEGIN:DAYLIGHT
DTSTART:20170326T030000
TZOFFSETFROM:+0100
TZOFFSETTO:+0200
TZNAME:CEST
END:DAYLIGHT
END:VTIMEZONE
END:VCALENDAR