BEGIN:VCALENDAR
VERSION:2.0
PRODID:-//wp-events-plugin.com//7.2.3.1//EN
TZID:Europe/Berlin
X-WR-TIMEZONE:Europe/Berlin
BEGIN:VEVENT
UID:381@hiig.de
DTSTART;TZID=Europe/Berlin:20161124T180000
DTEND;TZID=Europe/Berlin:20161124T220000
DTSTAMP:20190218T103529Z
URL:https://www.hiig.de/en/events/remake-remix-rip-off/
SUMMARY:Remake Remix Rip-Off
DESCRIPTION:You know about Bollywood. You might be a fan of Nollywood. But 
 what do you know about Turkish Fantastic Cinema?\n\nThe Alexander von Humb
 oldt Institute for Internet and Society is proud to be screening the docum
 entary Remix\, Remake\, Rip-Off: About Copy Culture and Turkish Pop Cinema
  and hosting a Q&amp\;A with the director Cem Kaya after the screening.\n\
 nAbout the documentary:\nImagine an evil Spider-Man wearing Superman's cap
 e\, car chases filmed with Matchbox cars or Star Wars with the Indiana Jon
 es soundtrack…\n\nIn an age of intellectual property rights and billion-
 dollar studio budgets\, only somewhere copyright couldn't reach could crea
 te such a cinematic mash-up...\n\nTurkey in the 1960s and '70s was such a 
 place. Here\, filmmakers working with tight budgets and even tighter deadl
 ines found creative ways to build one of the biggest film industries in th
 e world. In order to keep up with the demand\, they copied scripts\, remix
 ed and recut Hollywood productions and mixed original and locally produced
  footage into new films.\n\nThese movies were shown in Turkey and beyond\,
  and Turkish communities in Germany were able to rent videos of their favo
 urite Fantastic Turkish films. But with the arrival of satellite services\
 , which allowed people to access Turkish television\, many video stores cl
 osed down and most of the films were destroyed.\n\nDirector Cem Kaya grew 
 up with these films\, and has spent 12 years researching and interviewing 
 people involved in the Turkish Fantastic Cinema industry. He will be joini
 ng us for a screening and a Q&amp\;A discussion\, so join us for an evenin
 g of pop cinema\, popcorn\, and remix magic.\n\nNo entry fee\, but space i
 s limited\, so arrive early!\nDate: Thursday 24 November 2016\nDoors open:
  6:00pm Screening starts 6:30pm\nPlace: Alexander von Humboldt Institute f
 or Internet and Society (map)\n\n Watch the trailer here\n\nWith thanks to
  Cem Kaya\, and Drop Out Cinema eG
CATEGORIES:Issues in Focus
LOCATION:Humboldt Institute for Internet and Society\, Französische Straß
 e 9\, Berlin\, 10117\, Germany
X-APPLE-STRUCTURED-LOCATION;VALUE=URI;X-ADDRESS=Französische Straße 9\, B
 erlin\, 10117\, Germany;X-APPLE-RADIUS=100;X-TITLE=Humboldt Institute for 
 Internet and Society:geo:0,0
END:VEVENT
BEGIN:VTIMEZONE
TZID:Europe/Berlin
X-LIC-LOCATION:Europe/Berlin
BEGIN:STANDARD
DTSTART:20161030T020000
TZOFFSETFROM:+0200
TZOFFSETTO:+0100
TZNAME:CET
END:STANDARD
END:VTIMEZONE
END:VCALENDAR