BEGIN:VCALENDAR
VERSION:2.0
PRODID:-//wp-events-plugin.com//7.2.3.1//EN
TZID:Europe/Berlin
X-WR-TIMEZONE:Europe/Berlin
BEGIN:VEVENT
UID:1107@hiig.de
DTSTART;TZID=Europe/Berlin:20230516T150000
DTEND;TZID=Europe/Berlin:20230516T163000
DTSTAMP:20230510T085740Z
URL:https://www.hiig.de/en/events/potentials-of-small-tech-what-can-we-lea
 rn-from-the-small-platforms/
SUMMARY:Potentials of Small Tech: What can we learn from the small platform
 s?
DESCRIPTION:The Alexander von Humboldt Institute for Internet and Society\,
  together with the Bertelsmann Foundation\, is organising a Deep Dive on t
 he topic of "Potentials of Small Tech: What can we learn from the newcomer
 s?". The event will take place online and in German.\n\n&nbsp\;\n Deep Di
 ve\nPotenziale von Small Tech: Was können wir von den Kleinen lernen?\n16
 .05.2023 | 15:00 – 16:30 Uhr\nZoom\n&nbsp\;\n\nBisher mangelt es in der 
 Governance sowie in der Regulierung von digitalen Plattformen an einer Deb
 atte über Plattformen abseits von der sogenannten fünf dominierenden Big
  Tech Unternehmen (Google\, Facebook und Co). Hier lohnt sich ein Blick au
 f kleinere Plattformen (Small Tech)\, um die Anforderungen von Rede- und M
 einungsfreiheit im Internet zu beleuchten. Denn auf diesen funktioniert da
 s Spannungsverhältnis der vielschichtigen Regeln und Richtlinien bei der 
 Moderation von Inhalten oft besser. Mit unkonventionellen Strategien einer
  aktiven und Community-eingebundenen Moderation gestalten sie so Redefreih
 eit fair und inklusiv.  \n\n&nbsp\;\n\nDie Small Tech-Landschaft ist seh
 r heterogen und reicht von allgemeinen Q&amp\;A-Plattformen über Nachbars
 chaftsforen bis hin zu LGBTQIA+-Netzwerken. Bisher besteht noch keine syst
 ematische und vergleichende Erhebung zu diesen kleinen und mittleren Platt
 formen. Durch ihre Größe fallen sie nicht unter das deutsche NetzDG oder
  den Verpflichtungen des Digital Services Act (DSA). Dadurch müssen sie w
 eniger Anforderungen erfüllen als ihre großen Mitbewerber. Zudem bieten 
 Small Tech-Plattformen durch die kleineren Nutzer*innenzahlen oft einen Or
 t für interessengebundenen Austausch\; einen kleinen geschützten Bereich
 \, in dem sich unbehelligt von Konkurrenz aufgehalten und entfaltet werden
  kann. \n\n&nbsp\;\nDeep Dive Format\nZu dem Deep Dive werden zwei Impulsg
 ebende und etwa 15 teilnehmende Expert*innen eingeladen. Im Anschluss jede
 r Veranstaltung wird ein Impulspapier veröffentlicht.\n\nFolgende Fragen 
 stehen im Mittelpunkt: \n\n 	Wie gewinnen wir einen strukturierten Überb
 lick über etablierte Content-Governance auf Small Tech-Plattformen?\n 	We
 lche erfolgreichen Methoden der Inhaltsmoderation lassen sich auch auf gro
 ße Plattformen übertragen?  \n 	Welche Rolle spielen Small Tech-Plattf
 ormen im demokratischen Diskurs? Gibt es dort Best Practices\, in denen au
 ch marginalisierte Gruppen und deren Bedarfe sichtbar werden und können s
 ie so die Durchsetzung von Regulierung beeinflussen?\n\n&nbsp\;\nKurzimpul
 se\nChristina Dinar (Leibniz-Institut für Medienforschung | Hans-Bredow-I
 nstitut) \n\nMarie-Kathrin Siemer (Liquid Democracy) \n\n&nbsp\;\nDeep-Di
 ve Reihe: Thema Digitale Plattformen\nDas Upgrade Democracy Team der Berte
 lsmann Stiftung organisiert gemeinsam mit dem Humboldt Institut für Inter
 net und Gesellschaft eine 5-teilige\, monatliche Impulsserie zum Thema Dig
 itale Plattformen: Gestaltungsvorschläge und Alternativen. Mittelpunkt de
 r Reihe ist eine intensive Auseinandersetzung mit aktuellen Herausforderun
 gen und Problemen auf bestehenden sozialen Plattformen und der Vorstellung
  und Diskussion von Alternativen. Die Themen Beteiligung und gestärkte Go
 vernance in Hinblick auf die demokratische Ausgestaltung der dominanten so
 zialen Plattformen stehen ebenso im Fokus wie Fragen nach gemeinwohlorient
 ierten Entscheidungsprozessen. Die einzelnen Impulse greifen thematisch in
 einander und zielen auf die Identifikation von Feldern für zukünftiges A
 dvocacy im Themenfeld alternative\, gemeinwohlorientierte Kommunikationsin
 frastrukturen.\n\n&nbsp\;\n\nEine Anmeldung zu dieser Veranstaltung ist nu
 r nach persönlicher Einladung möglich.\n\nBei Fragen und Anmerkungen wen
 den Sie sich bitte an Katharina Mosene: katharina.mosene@hiig.de
ATTACH;FMTTYPE=image/jpeg:https://www.hiig.de/wp-content/uploads/2023/04/D
 eep-Dive-Bertelsmann-2.png
LOCATION:Online\, HIIG\, Berlin\, Germany
X-APPLE-STRUCTURED-LOCATION;VALUE=URI;X-ADDRESS=HIIG\, Berlin\, Germany;X-A
 PPLE-RADIUS=100;X-TITLE=Online:geo:0,0
END:VEVENT
BEGIN:VTIMEZONE
TZID:Europe/Berlin
X-LIC-LOCATION:Europe/Berlin
BEGIN:DAYLIGHT
DTSTART:20230326T030000
TZOFFSETFROM:+0100
TZOFFSETTO:+0200
TZNAME:CEST
END:DAYLIGHT
END:VTIMEZONE
END:VCALENDAR