BEGIN:VCALENDAR
VERSION:2.0
PRODID:-//wp-events-plugin.com//7.2.3.1//EN
TZID:Europe/Berlin
X-WR-TIMEZONE:Europe/Berlin
BEGIN:VEVENT
UID:181@hiig.de
DTSTART;TZID=Europe/Berlin:20141112T170000
DTEND;TZID=Europe/Berlin:20141112T180000
DTSTAMP:20150318T125103Z
URL:https://www.hiig.de/en/events/open-hiig-club-with-rafael-horzon/
SUMMARY:Open HIIG Club with Rafael Horzon
DESCRIPTION:\n\nRafael Horzon - furniture magnate\, original genius und a
 pple pie tycoon is a guest at Open Hiig Club.\n\nWe will talk about busi
 ness ideas and entrepreneurship on Wednesday\, 12 November. We hope that 
 he will tell us\, how to become such a a successful entrepreneur.\n\nWe a
 re very excited.\n\nHorzons group of companies modocom: www.modocom.de\
 nThe HIIG Club is a weekly event at the HIIG where researchers discuss int
 eresting publications and topics. On 12 November we open up our doors to
  a wider audience – you are welcome to join the discussion!\n.
ATTACH;FMTTYPE=image/jpeg:https://www.hiig.de/wp-content/uploads/2014/11/B
 ildschirmfoto-2014-10-27-um-12.54.372.png
CATEGORIES:Exploring Digital Spheres
LOCATION:Former office of the HIIG | Room E27\, Bebelplatz 1\, Berlin\, 101
 17\, Germany
X-APPLE-STRUCTURED-LOCATION;VALUE=URI;X-ADDRESS=Bebelplatz 1\, Berlin\, 101
 17\, Germany;X-APPLE-RADIUS=100;X-TITLE=Former office of the HIIG | Room E
 27:geo:0,0
END:VEVENT
BEGIN:VTIMEZONE
TZID:Europe/Berlin
X-LIC-LOCATION:Europe/Berlin
BEGIN:STANDARD
DTSTART:20141026T020000
TZOFFSETFROM:+0200
TZOFFSETTO:+0100
TZNAME:CET
END:STANDARD
END:VTIMEZONE
END:VCALENDAR