BEGIN:VCALENDAR
VERSION:2.0
PRODID:-//wp-events-plugin.com//7.2.3.1//EN
TZID:Europe/Berlin
X-WR-TIMEZONE:Europe/Berlin
BEGIN:VEVENT
UID:1181@hiig.de
DTSTART:20231104T140000Z
DTEND:20231104T193000Z
DTSTAMP:20240119T134945Z
URL:https://www.hiig.de/en/events/multi-stakeholder-dialogue-tech-skills-f
 or-everyone/
SUMMARY:Multi-Stakeholder Dialogue: Women in the tech sector in Mauritania
DESCRIPTION:In this dialogue\, we want to explore the gender perspective wi
 thin the tech-sector in Mauritania.
ATTACH;FMTTYPE=image/jpeg:https://www.hiig.de/wp-content/uploads/2023/10/W
 ebsite-DigSal-Maerz-–-17.png
LOCATION:Azalaï Hotel\, 2PG+MP\, Ave Abdel Nasser\, Nouakchott\, Mauritani
 a
X-APPLE-STRUCTURED-LOCATION;VALUE=URI;X-ADDRESS=2PG+MP\, Ave Abdel Nasser\,
  Nouakchott\, Mauritania;X-APPLE-RADIUS=100;X-TITLE=Azalaï Hotel:geo:0,0
END:VEVENT
END:VCALENDAR