BEGIN:VCALENDAR
VERSION:2.0
PRODID:-//wp-events-plugin.com//7.2.3.1//EN
TZID:Europe/Berlin
X-WR-TIMEZONE:Europe/Berlin
BEGIN:VEVENT
UID:536@hiig.de
DTSTART;TZID=Europe/Berlin:20180507T190000
DTEND;TZID=Europe/Berlin:20180507T220000
DTSTAMP:20180524T161524Z
URL:https://www.hiig.de/en/events/marion-fourcade-digital-society/
SUMMARY:Marion Fourcade: Social order in the digital society
DESCRIPTION:Modern institutions\, both public and private\, rely on tools a
 nd procedures that track individuals\, assess their behavior\, and assign 
 them membership in various categories. They use them\, variously\, in thei
 r efforts to monitor conduct\, calculate risk\, or extract value. These cl
 assifications distribute value\, rank people and things\, and shape their 
 future lives. How is social order constituted and legitimated in a society
  ruled by digital classifiers and associated actuarial techniques? What do
  these developments mean for fundamental principles such as equality and f
 airness? What are the moral implications of looking at individuals through
  the lens of these new classificatory architectures? And how do we justify
  the use of techniques that are growing ever more efficient at predicting 
 outcomes but are ever less amenable to human sense making?\n\n&nbsp\;\n\n\
 n\n&nbsp\;\n\nMarion Fourcade is professor of sociology at UC Berkeley and
  an associate fellow of the Max Planck - Sciences Po Center on coping with
  instability in market societies. Fourcade's upcoming book The Ordinal Soc
 iety investigates new forms of social stratification and morality in the d
 igital economy.\nAgenda\n\n\n\n18:30\nDoors open\n\n\n19:00 – 19:15\nWel
 come and introduction\n\n\n19:15 – 20:00\nSocial order in the digital so
 ciety\n Marion Fourcade (UC Berkeley)\n\n\n20:00 – 21:00\nModerated disc
 ussion and questions from the audience\n\n\n21:00 – 22:00\nGet-together\
 n\n\n\n[photospace ids="47298\,47296\,47294\,47292\,47284\,47286\,47288\,4
 7290\,47282\,47280\,47278"]\nMaking sense of the digital society\nAlexande
 r von Humboldt Institute for Internet and Society (HIIG) and the German Fe
 deral Agency for Civic Education/bpb are organising an academic lecture se
 ries on Making Sense of the Digital Society. The high-profile series thriv
 es to develop a European perspective on the processes of transformation th
 at our societies are currently undergoing. It started with an inaugural le
 cture by Manuel Castells about power and counter-power in the digital soci
 ety on December 12\, 2017 and was continued by Christoph Neuberger in Janu
 ary 2018 and Elena Esposito in March 2018. José van Dijck\, author of the
  forthcoming book The Platform Society and president of the Royal Netherla
 nds Academy of Arts and Sciences\, is another confirmed speaker of the lec
 ture series\, further speakers are to be announced.\n\n
ATTACH;FMTTYPE=image/jpeg:https://www.hiig.de/wp-content/uploads/2018/03/F
 ourcade_2018-28.png
CATEGORIES:Making sense of the digital society
LOCATION:Langenbeck-Virchow-Haus\, Luisenstraße 58/59\, Berlin\, 10117\, G
 ermany
X-APPLE-STRUCTURED-LOCATION;VALUE=URI;X-ADDRESS=Luisenstraße 58/59\, Berli
 n\, 10117\, Germany;X-APPLE-RADIUS=100;X-TITLE=Langenbeck-Virchow-Haus:geo
 :0,0
END:VEVENT
BEGIN:VTIMEZONE
TZID:Europe/Berlin
X-LIC-LOCATION:Europe/Berlin
BEGIN:DAYLIGHT
DTSTART:20180325T030000
TZOFFSETFROM:+0100
TZOFFSETTO:+0200
TZNAME:CEST
END:DAYLIGHT
END:VTIMEZONE
END:VCALENDAR