BEGIN:VCALENDAR
VERSION:2.0
PRODID:-//wp-events-plugin.com//7.2.3.1//EN
TZID:Europe/Berlin
X-WR-TIMEZONE:Europe/Berlin
BEGIN:VEVENT
UID:391@hiig.de
DTSTART;TZID=Europe/Berlin:20170111T130000
DTEND;TZID=Europe/Berlin:20170111T140000
DTSTAMP:20180524T100319Z
URL:https://www.hiig.de/en/events/lunch-talk-with-chris-baumann/
SUMMARY:Beyond the black box – Lunch talk with Chris Baumann
DESCRIPTION:The paper presented deals with the sociotechnical infrastructur
 e that organises and maintains digital media players. After laying out a f
 ramework for studying interconnectivity in complex systems\, and introduci
 ng the notion of interoperable system as a conceptual intervention for the
  study of media technologies\, Chris Baumann offers a case study of Micros
 oft’s Xbox One as a digital media player. 
CATEGORIES:Exploring Digital Spheres
LOCATION:Humboldt Institute for Internet and Society\, Französische Straß
 e 9\, Berlin\, 10117\, Germany
X-APPLE-STRUCTURED-LOCATION;VALUE=URI;X-ADDRESS=Französische Straße 9\, B
 erlin\, 10117\, Germany;X-APPLE-RADIUS=100;X-TITLE=Humboldt Institute for 
 Internet and Society:geo:0,0
END:VEVENT
BEGIN:VTIMEZONE
TZID:Europe/Berlin
X-LIC-LOCATION:Europe/Berlin
BEGIN:STANDARD
DTSTART:20161030T020000
TZOFFSETFROM:+0200
TZOFFSETTO:+0100
TZNAME:CET
END:STANDARD
END:VTIMEZONE
END:VCALENDAR