BEGIN:VCALENDAR
VERSION:2.0
PRODID:-//wp-events-plugin.com//7.2.3.1//EN
TZID:Europe/Berlin
X-WR-TIMEZONE:Europe/Berlin
BEGIN:VEVENT
UID:615@hiig.de
DTSTART;TZID=Europe/Berlin:20180912T120000
DTEND;TZID=Europe/Berlin:20180912T140000
DTSTAMP:20180914T073012Z
URL:https://www.hiig.de/en/events/lunch-talk-a-fast-moving-technology-like
 -ai/
SUMMARY:Lunch Talk: A fast moving technology like AI
DESCRIPTION:On 12 September\, we were hosting a lunch talk on the societal 
 impact of artificial intelligence with Ulrike Klinger (Professor for Digi
 tal Communication\, Freie Universität Berlin)\, Nicklas Lundblad (Vice P
 resident\, Public Policy and Government Relations EMEA at Google) and Wolf
 gang Schulz (Director of the Hans-Bredow-Institut for Media Research and H
 IIG). \n\n&nbsp\;\nA FAST MOVING TECHNOLOGY LIKE AI\nSocietal impact and 
 governance implications\n12 September 2018 | 12.00 – 2.00 pm\nHIIG | Fra
 nzösische Str. 9 | 10117 Berlin\n[photospace ids="52821\,52819\,52817\,52
 815\,52813\,52811"]\n\nWe were delighted to invite you to a lunch talk on 
 the societal impact of artificial intelligence moderated by Lena Ulbricht
  (Research group leader Quantification and Social Regulation\, Weizenbaum
  Institute for the Networked Society) with:\n\n 	Ulrike Klinger (Professo
 r for Digital Communication\, Freie Universität Berlin)\n 	Nicklas Lundbl
 ad (Vice President\, Public Policy and Government Relations EMEA at Googl
 e)\n 	Wolfgang Schulz (Director of the Hans-Bredow-Institute for Media Re
 search and HIIG)\n\nWe were seek to explore and exchange views on the shif
 ts\, tensions and new perspectives that innovations bring to the field of 
 artificial intelligence and their social consideration\, addressing questi
 ons such as:\n\n 	How will AI affect social relations in the future?\n 	Sh
 ould there be limits to AI? Who should determine them?\n 	How does this af
 fect our society?\n 	Does/should it have implications on our governance st
 ructures?\n\nProgramme:\n\n\n\n11.30 am\n Admission\n\n\n12.00 pm\n Pane
 l discussion and Q&amp\;A with the audience\n\n\n01.15 pm\n Light lunch a
 nd get-together\n\n\n02.00 pm\n End of the event\n\n\n\nRegistration\n&nb
 sp\;
ATTACH;FMTTYPE=image/jpeg:https://www.hiig.de/wp-content/uploads/2018/08/a
 i-jellyfish.jpg
CATEGORIES:Netzwerken
LOCATION:Humboldt Institute for Internet and Society\, Französische Straß
 e 9\, Berlin\, 10117\, Germany
X-APPLE-STRUCTURED-LOCATION;VALUE=URI;X-ADDRESS=Französische Straße 9\, B
 erlin\, 10117\, Germany;X-APPLE-RADIUS=100;X-TITLE=Humboldt Institute for 
 Internet and Society:geo:0,0
END:VEVENT
BEGIN:VTIMEZONE
TZID:Europe/Berlin
X-LIC-LOCATION:Europe/Berlin
BEGIN:DAYLIGHT
DTSTART:20180325T030000
TZOFFSETFROM:+0100
TZOFFSETTO:+0200
TZNAME:CEST
END:DAYLIGHT
END:VTIMEZONE
END:VCALENDAR