BEGIN:VCALENDAR
VERSION:2.0
PRODID:-//wp-events-plugin.com//7.2.3.1//EN
TZID:Europe/Berlin
X-WR-TIMEZONE:Europe/Berlin
BEGIN:VEVENT
UID:1308@hiig.de
DTSTART;TZID=Europe/Berlin:20240622T170000
DTEND;TZID=Europe/Berlin:20240623T000000
DTSTAMP:20240620T160353Z
URL:https://www.hiig.de/en/events/long-night-of-the-sciences-2024/
SUMMARY:Long Night of the Sciences 2024
DESCRIPTION:Whether to play games\, program code\, take part in a Pub Quiz 
 oder enquiry the ethics oracle: Join us for a tour through the cyberspace!
ATTACH;FMTTYPE=image/jpeg:https://www.hiig.de/wp-content/uploads/2024/05/W
 ebsite_LNDW.png
LOCATION:Humboldt Institute for Internet and Society\, Französische Straß
 e 9\, Berlin\, 10117\, Germany
X-APPLE-STRUCTURED-LOCATION;VALUE=URI;X-ADDRESS=Französische Straße 9\, B
 erlin\, 10117\, Germany;X-APPLE-RADIUS=100;X-TITLE=Humboldt Institute for 
 Internet and Society:geo:0,0
END:VEVENT
BEGIN:VTIMEZONE
TZID:Europe/Berlin
X-LIC-LOCATION:Europe/Berlin
BEGIN:DAYLIGHT
DTSTART:20240331T030000
TZOFFSETFROM:+0100
TZOFFSETTO:+0200
TZNAME:CEST
END:DAYLIGHT
END:VTIMEZONE
END:VCALENDAR