BEGIN:VCALENDAR
VERSION:2.0
PRODID:-//wp-events-plugin.com//7.2.3.1//EN
TZID:Europe/Berlin
X-WR-TIMEZONE:Europe/Berlin
BEGIN:VEVENT
UID:846@hiig.de
DTSTART;TZID=Europe/Berlin;VALUE=DATE:20200817
DTEND;TZID=Europe/Berlin;VALUE=DATE:20200818
DTSTAMP:20201211T122727Z
URL:https://www.hiig.de/en/events/launch-event-for-the-project-ethics-of-d
 igitalisation/
SUMMARY:Launch event for the project "The Ethics of Digitalisation"
DESCRIPTION:What rules do we need if we want to develop AI that serves the 
 public good? How can we design algorithms that shape our society?
ATTACH;FMTTYPE=image/jpeg:https://www.hiig.de/wp-content/uploads/2020/06/n
 asa-Q1p7bh3SHj8-unsplash.jpg
CATEGORIES:Auftaktveranstaltung
LOCATION:Livestream\, hiig.de\, Berlin\, Germany
X-APPLE-STRUCTURED-LOCATION;VALUE=URI;X-ADDRESS=hiig.de\, Berlin\, Germany;
 X-APPLE-RADIUS=100;X-TITLE=Livestream:geo:0,0
END:VEVENT
BEGIN:VTIMEZONE
TZID:Europe/Berlin
X-LIC-LOCATION:Europe/Berlin
BEGIN:DAYLIGHT
DTSTART:20200329T030000
TZOFFSETFROM:+0100
TZOFFSETTO:+0200
TZNAME:CEST
END:DAYLIGHT
END:VTIMEZONE
END:VCALENDAR