BEGIN:VCALENDAR
VERSION:2.0
PRODID:-//wp-events-plugin.com//7.2.3.1//EN
TZID:Europe/Berlin
X-WR-TIMEZONE:Europe/Berlin
BEGIN:VEVENT
UID:957@hiig.de
DTSTART;TZID=Europe/Berlin:20220125T130000
DTEND;TZID=Europe/Berlin:20220125T160000
DTSTAMP:20220114T181857Z
URL:https://www.hiig.de/en/events/ki-in-der-arbeitswelt/
SUMMARY:KI in der Arbeitswelt: Einsatzmöglichkeiten\, Auswirkungen und Han
 dlungsfelder für eine beschäftigtenorientierte Gestaltung – Workshop I
DESCRIPTION:This workshop focuses on AI in the context of work.
ATTACH;FMTTYPE=image/jpeg:https://www.hiig.de/wp-content/uploads/2022/01/w
 orkshop_cube.jpg
CATEGORIES:Issues in Focus
LOCATION:Zoom\, hiig.de\, Berlin\, Germany
X-APPLE-STRUCTURED-LOCATION;VALUE=URI;X-ADDRESS=hiig.de\, Berlin\, Germany;
 X-APPLE-RADIUS=100;X-TITLE=Zoom:geo:0,0
END:VEVENT
BEGIN:VTIMEZONE
TZID:Europe/Berlin
X-LIC-LOCATION:Europe/Berlin
BEGIN:STANDARD
DTSTART:20211031T020000
TZOFFSETFROM:+0200
TZOFFSETTO:+0100
TZNAME:CET
END:STANDARD
END:VTIMEZONE
END:VCALENDAR