BEGIN:VCALENDAR
VERSION:2.0
PRODID:-//wp-events-plugin.com//7.2.3.1//EN
TZID:Europe/Berlin
X-WR-TIMEZONE:Europe/Berlin
BEGIN:VEVENT
UID:413@hiig.de
DTSTART;TZID=Europe/Berlin:20170628T120000
DTEND;TZID=Europe/Berlin:20170628T180000
DTSTAMP:20171018T143844Z
URL:https://www.hiig.de/en/events/iv-interdisciplinary-workshop-privacy-da
 ta-protection-surveillance/
SUMMARY:IV. Interdisciplinary Workshop: Privacy\, Data Protection & Surveil
 lance
DESCRIPTION:The Alexander von Humboldt Institute for Internet and Society k
 indly invites for the 4th Interdisciplinary Workshop »Privacy\, Data Prot
 ection &amp\; Surveillance« taking place on 28 June 2017 from 12 a.m. to 
 6 p.m. at the Institute’s premises\, Französische Straße 9\, 10117 Ber
 lin. You should understand German\, but you are very welcome to give your 
 presentation in English. Below\, you'll find a more detailed description i
 n German.\n\nAuch mit dem vierten Workshop wollen wir wieder insbesondere 
 jungen Wissenschaftler*innen die Gelegenheit bieten\, in einer interdiszip
 linären Runde aktuelle Forschungsarbeiten aus dem sehr breiten und divers
 en Forschungsfeld Privacy\, Surveillance und Datenschutz vorzustellen und 
 zu diskutieren. Wir freuen uns über Aufsatzprojekte und Dissertationsvorh
 aben\, theoretische und empirische Arbeiten\, Analysen ebenso wie Lösungs
 vorschläge – und es darf sich ausdrücklich um work in progress handeln
 . Neben der Diskussion über offene Forschungsfragen soll auf dem Workshop
  eine kritische Reflexion der Prämissen der eigenen Forschung\, der eigen
 en Theorieschule(n) und der eigenen Disziplin(en) im Vordergrund stehen. B
 esonders freuen wir uns über Einreichungen von Forscher*innen aus den tec
 hnischen Wissenschaften.\n\nSollten Sie Interesse haben\, an der Veranstal
 tung teilzunehmen\, möchten wir Sie bitten\, bis spätestens Montag\, den
  05.06.2017\, unser Anmeldeformular am Ende dieser Seite auszufüllen und 
 dabei anzugeben\, ob Sie als Hörer*in oder Redner*in teilnehmen möchten.
  Redner*innen werden gebeten\, bei ihrer Anmeldung einen Titel und ein erw
 eitertes Abstract (ca. 800 Wörter) des Vortrags\, der max. 15 Minuten dau
 ern sollte\, anzugeben. Gerne können Sie auch Angaben zu Ihren Diszipline
 n\, Interessengebieten und Forschungsschwerpunkten machen. Innerhalb der g
 rundlegenden Thematik sind Sie vollkommen frei\, Ihren Bereich zu wählen 
 und einen Schwerpunkt zu setzen.\n\nDas Workshopprogramm wird allen angeme
 ldeten Teilnehmer*innen bis zum 19.06.2017 zugehen.\n\nWir freuen uns sehr
  auf Ihr Kommen und Ihre Beiträge.\n\nTermine:\n\n 	05.06.2017: Anmeldesc
 hluss\n 	05.06.2017: Deadline für die Einreichung der Abstracts\n 	12.06.
 2017: Rückmeldung zur Annahme der Vorschläge\n 	19.06.2017: Programm des
  Workshops\n 	28.06.2017: Workshop\n\nLeider können wir keine Reise- oder
  Übernachtungskosten erstatten.\n\nWorkshops in dieser Reihe:\n\n 	Berich
 t vom interdisziplinären Workshop “Privacy\, Datenschutz &amp\; Surveil
 lance” am 04.12.2015\n 	Bericht vom II. Interdisziplinären Workshop “
 Privacy\, Datenschutz &amp\; Surveillance” am 30.06.2016\n 	Bericht vom 
 III. Interdisziplinären Workshop “Privacy\, Datenschutz &amp\; Surveill
 ance am 09.12.2016\n
CATEGORIES:Issues in Focus
LOCATION:Humboldt Institute for Internet and Society\, Französische Straß
 e 9\, Berlin\, 10117\, Germany
X-APPLE-STRUCTURED-LOCATION;VALUE=URI;X-ADDRESS=Französische Straße 9\, B
 erlin\, 10117\, Germany;X-APPLE-RADIUS=100;X-TITLE=Humboldt Institute for 
 Internet and Society:geo:0,0
END:VEVENT
BEGIN:VTIMEZONE
TZID:Europe/Berlin
X-LIC-LOCATION:Europe/Berlin
BEGIN:DAYLIGHT
DTSTART:20170326T030000
TZOFFSETFROM:+0100
TZOFFSETTO:+0200
TZNAME:CEST
END:DAYLIGHT
END:VTIMEZONE
END:VCALENDAR