BEGIN:VCALENDAR
VERSION:2.0
PRODID:-//wp-events-plugin.com//7.2.3.1//EN
TZID:Europe/Berlin
X-WR-TIMEZONE:Europe/Berlin
BEGIN:VEVENT
UID:725@hiig.de
DTSTART;TZID=Europe/Berlin:20190807T130000
DTEND;TZID=Europe/Berlin:20190807T140000
DTSTAMP:20190730T111316Z
URL:https://www.hiig.de/en/events/it-blogsphere-impact-digital-policy-lunc
 h-talk/
SUMMARY:The IT blogsphere and its impact on digital policy – Lunch Talk
DESCRIPTION:Following the assumption that IT news outlets represent an avan
 t-garde of technologically and socially interested experts\, Jens Pohlmann
  (GHI) and Adrien Barbaresi (BBAW) present a research platform to observe 
 their input on the public discussion of matters situated at the intersecti
 on of technology and society.
ATTACH;FMTTYPE=image/jpeg:https://www.hiig.de/wp-content/uploads/2019/05/b
 ag-bags-brown-21436-Cropped.jpg
CATEGORIES:Issues in Focus,Meetup: Impact of Science
LOCATION:Humboldt Institute for Internet and Society\, Französische Straß
 e 9\, Berlin\, 10117\, Germany
X-APPLE-STRUCTURED-LOCATION;VALUE=URI;X-ADDRESS=Französische Straße 9\, B
 erlin\, 10117\, Germany;X-APPLE-RADIUS=100;X-TITLE=Humboldt Institute for 
 Internet and Society:geo:0,0
END:VEVENT
BEGIN:VTIMEZONE
TZID:Europe/Berlin
X-LIC-LOCATION:Europe/Berlin
BEGIN:DAYLIGHT
DTSTART:20190331T030000
TZOFFSETFROM:+0100
TZOFFSETTO:+0200
TZNAME:CEST
END:DAYLIGHT
END:VTIMEZONE
END:VCALENDAR