BEGIN:VCALENDAR
VERSION:2.0
PRODID:-//wp-events-plugin.com//7.2.3.1//EN
TZID:Europe/Berlin
X-WR-TIMEZONE:Europe/Berlin
BEGIN:VEVENT
UID:43@hiig.de
DTSTART;TZID=Europe/Berlin:20131122T083000
DTEND;TZID=Europe/Berlin:20131122T193000
DTSTAMP:20190401T135124Z
URL:https://www.hiig.de/en/events/internet-and-partizipation/
SUMMARY:Chances and Risks of Social Participation
DESCRIPTION:Participation is a key issue within Internet research and hence
  also for the Alexander von Humboldt Institute for Internet and Society. F
 or this reason the institute is going to initiate a thematically focused m
 eeting on Chances and Risks of Social Participation in Berlin on 22 Novemb
 er 2013 in cooperation with the Friedrich-Ebert-Foundation.
ATTACH;FMTTYPE=image/jpeg:https://www.hiig.de/wp-content/uploads/2013/06/B
 ildschirmfoto-2013-09-17-um-13.15.23.png
CATEGORIES:Issues in Focus
LOCATION:Friedrich-Ebert-Stiftung e.V.\, Hiroshimastraße 17 \, Berlin \, 1
 0785\, Germany
X-APPLE-STRUCTURED-LOCATION;VALUE=URI;X-ADDRESS=Hiroshimastraße 17 \, Berl
 in \, 10785\, Germany;X-APPLE-RADIUS=100;X-TITLE=Friedrich-Ebert-Stiftung 
 e.V.:geo:0,0
END:VEVENT
BEGIN:VTIMEZONE
TZID:Europe/Berlin
X-LIC-LOCATION:Europe/Berlin
BEGIN:STANDARD
DTSTART:20131027T020000
TZOFFSETFROM:+0200
TZOFFSETTO:+0100
TZNAME:CET
END:STANDARD
END:VTIMEZONE
END:VCALENDAR