BEGIN:VCALENDAR
VERSION:2.0
PRODID:-//wp-events-plugin.com//7.2.3.1//EN
TZID:Europe/Berlin
X-WR-TIMEZONE:Europe/Berlin
BEGIN:VEVENT
UID:1109@hiig.de
DTSTART:20230607T040000Z
DTEND:20230607T050000Z
DTSTAMP:20240119T135013Z
URL:https://www.hiig.de/en/events/inspirational-talk-in-ecuador-women-who-
 inspire-in-technology/
SUMMARY:Inspirational Talk in Ecuador: Women* who inspire in technology
DESCRIPTION:This event presents the working world of a woman in the technol
 ogy sector.
ATTACH;FMTTYPE=image/jpeg:https://www.hiig.de/wp-content/uploads/2023/05/1
 1.png
LOCATION:Hotel Dann Carlton\, Av. República de El Salvador N 34-377\, Quit
 o\, Ecuador
X-APPLE-STRUCTURED-LOCATION;VALUE=URI;X-ADDRESS=Av. República de El Salvad
 or N 34-377\, Quito\, Ecuador;X-APPLE-RADIUS=100;X-TITLE=Hotel Dann Carlto
 n:geo:0,0
END:VEVENT
END:VCALENDAR