BEGIN:VCALENDAR
VERSION:2.0
PRODID:-//wp-events-plugin.com//7.2.3.1//EN
TZID:Europe/Berlin
X-WR-TIMEZONE:Europe/Berlin
BEGIN:VEVENT
UID:933@hiig.de
DTSTART;TZID=Europe/Berlin;VALUE=DATE:20210929
DTEND;TZID=Europe/Berlin;VALUE=DATE:20211001
DTSTAMP:20211112T073730Z
URL:https://www.hiig.de/en/events/infrastrukturen-der-autonomie/
SUMMARY:Infrastrukturen der Autonomie
DESCRIPTION:We will discuss the various interpretations of the concept of a
 utonomy. The event will bei held in German. 
ATTACH;FMTTYPE=image/jpeg:https://www.hiig.de/wp-content/uploads/2021/09/a
 utonomie_website.jpg
CATEGORIES:Issues in Focus
LOCATION:Humboldt Institute for Internet and Society\, Französische Straß
 e 9\, Berlin\, 10117\, Germany
X-APPLE-STRUCTURED-LOCATION;VALUE=URI;X-ADDRESS=Französische Straße 9\, B
 erlin\, 10117\, Germany;X-APPLE-RADIUS=100;X-TITLE=Humboldt Institute for 
 Internet and Society:geo:0,0
END:VEVENT
BEGIN:VTIMEZONE
TZID:Europe/Berlin
X-LIC-LOCATION:Europe/Berlin
BEGIN:DAYLIGHT
DTSTART:20210328T030000
TZOFFSETFROM:+0100
TZOFFSETTO:+0200
TZNAME:CEST
END:DAYLIGHT
END:VTIMEZONE
END:VCALENDAR