BEGIN:VCALENDAR
VERSION:2.0
PRODID:-//wp-events-plugin.com//7.2.3.1//EN
TZID:Europe/Berlin
X-WR-TIMEZONE:Europe/Berlin
BEGIN:VEVENT
UID:422@hiig.de
DTSTART;TZID=Europe/Berlin:20170621T130000
DTEND;TZID=Europe/Berlin:20170621T140000
DTSTAMP:20180524T152945Z
URL:https://www.hiig.de/en/events/infrastructuring-connectivity-asta-vonde
 rau/
SUMMARY:Infrastructuring Connectivity – Lunch talk with Asta Vonderau
DESCRIPTION:How are global data streems entangled into and shaped by the lo
 cal political and economic contexts? What aspects of digitization become v
 isible regarding the Internet from the infrastructural perspective? Why is
  the infrastructural approach interesting for social science research?
CATEGORIES:Exploring Digital Spheres
LOCATION:Humboldt Institute for Internet and Society\, Französische Straß
 e 9\, Berlin\, 10117\, Germany
X-APPLE-STRUCTURED-LOCATION;VALUE=URI;X-ADDRESS=Französische Straße 9\, B
 erlin\, 10117\, Germany;X-APPLE-RADIUS=100;X-TITLE=Humboldt Institute for 
 Internet and Society:geo:0,0
END:VEVENT
BEGIN:VTIMEZONE
TZID:Europe/Berlin
X-LIC-LOCATION:Europe/Berlin
BEGIN:DAYLIGHT
DTSTART:20170326T030000
TZOFFSETFROM:+0100
TZOFFSETTO:+0200
TZNAME:CEST
END:DAYLIGHT
END:VTIMEZONE
END:VCALENDAR