BEGIN:VCALENDAR
VERSION:2.0
PRODID:-//wp-events-plugin.com//7.2.3.1//EN
TZID:Europe/Berlin
X-WR-TIMEZONE:Europe/Berlin
BEGIN:VEVENT
UID:1054@hiig.de
DTSTART;TZID=Europe/Berlin;VALUE=DATE:20221123
DTEND;TZID=Europe/Berlin;VALUE=DATE:20221124
DTSTAMP:20230130T081603Z
URL:https://www.hiig.de/en/events/infrastructures-of-autonomy-i-conference
 -opening/
SUMMARY:Beate Rössler on Autonomy and its Political Infrastructures | Keyn
 ote address
DESCRIPTION:This conference discusses the conditions\, structures and relat
 ionships that constitute both human and machine autonomy. 
ATTACH;FMTTYPE=image/jpeg:https://www.hiig.de/wp-content/uploads/2022/05/T
 agung-November-Infrastrukturen-der-Autonomie.png
LOCATION:Humboldt Institute for Internet and Society\, Französische Straß
 e 9\, Berlin\, 10117\, Germany
X-APPLE-STRUCTURED-LOCATION;VALUE=URI;X-ADDRESS=Französische Straße 9\, B
 erlin\, 10117\, Germany;X-APPLE-RADIUS=100;X-TITLE=Humboldt Institute for 
 Internet and Society:geo:0,0
END:VEVENT
BEGIN:VTIMEZONE
TZID:Europe/Berlin
X-LIC-LOCATION:Europe/Berlin
BEGIN:STANDARD
DTSTART:20221030T020000
TZOFFSETFROM:+0200
TZOFFSETTO:+0100
TZNAME:CET
END:STANDARD
END:VTIMEZONE
END:VCALENDAR