BEGIN:VCALENDAR
VERSION:2.0
PRODID:-//wp-events-plugin.com//7.2.3.1//EN
TZID:Europe/Berlin
X-WR-TIMEZONE:Europe/Berlin
BEGIN:VEVENT
UID:700@hiig.de
DTSTART;TZID=Europe/Berlin;VALUE=DATE:20190923
DTEND;TZID=Europe/Berlin;VALUE=DATE:20190925
DTSTAMP:20190514T101904Z
URL:https://www.hiig.de/en/events/influencing-the-digital-transformation-r
 ethinking-culture-participation/
SUMMARY:Influencing the digital transformation? – Rethinking culture & pa
 rticipation!
DESCRIPTION:Funded by the Hans Boeckler Foundation the Alexander von Humbol
 dt Institute for Internet and Society (HIIG) is organising in cooperation 
 with the Institute for Sociology of Friedrich-Alexander University Erlange
 n-Nürnberg a workshop on 23 &amp\; 24 September\,  that will elaborate o
 n digital platforms that facilitate employee participation online. If you 
 are interested in taking part in the workshop\, please register via the bo
 oking form below. If there are any questions concerning the event please w
 rite an e-mail to joram.gruenenberg@hiig.de. The event will take place in 
 German only\, below you’ll find more detailed information.\n\n&nbsp\;\nW
  O R K S H O P\nDigitale Transformation mitbestimmen? – Kultur &amp\; Pa
 rtizipation neu denken!\n23.09.2019\, 14-18 Uhr &amp\; 24.09.2019\, 9-13 U
 hr\nHIIG | Französische Straße 9 | 10117 Berlin\n&nbsp\;\n\nIm Zuge de
 r Digitalisierung und der sich wandelnden Lohnarbeit werden digitale Platt
 formen\, die eine Enterprise Social Software benutzen\, eingeführt oder g
 eplant. Diese funktionieren dabei ähnlich wie ein Soziales Netzwerk im Be
 trieb. Die Software soll dabei die Beschäftigten untereinander vernetzen 
 und so die Partizipation stärken und eine verbesserte Kultur der Teilhabe
  ermöglichen. Das HIIG und IfS beforschen diese Entwicklungen gefördert 
 durch die Hans-Böckler-Stiftung gegenwärtig intensiv mit dem Schwerpunkt
 \, wie sich die betrieblich verfasste Mitbestimmung angesichts des zunehme
 nden Einsatzes von digitalen Unternehmens-Plattformen für Partizipation 
 und Kollaboration\, insbesondere für Betriebsräte\, verändern und gest
 alten lässt.\n\nWir wollen nun auf Grundlage unserer Forschungsergebnisse
  einen Schritt weiter gehen und mit Ihnen an konkreten Lösungsansätzen a
 rbeiten. Deswegen möchten wir Sie herzlich einladen\, mit uns gemeinsam i
 n einem interdisziplinären Rahmen Handlungsempfehlungen zu entwickeln. In
  einer entspannten und kreativen Umgebung vernetzen wir Mitbestimmungs-Akt
 eurInnen über Branchengrenzen hinweg und bieten eine unkonventionelle Ide
 enschmiede.\n\nDie Ergebnisse dieses Intensiv-Workshops bereiten wir in Fo
 rm eines Werkzeugkastens auf und stellen diesen Ihnen und interessierten I
 nteressenvertreterInnen zur Anwendung zur Verfügung. Die Teilnahme am Wor
 kshop erfüllt die Kriterien nach §37.6 BetrVG. \n\nWir freuen uns über 
 Ihre rege Teilnahme. Die TeilnehmerInnenzahl am Workshop ist limitiert. Bi
 tte melden Sie sich über untenstehendes Formular zu der Veranstaltung an.
  Sollten Sie Interesse an dem Thema haben\, allerdings zum Termin verhinde
 rt sein\, dann nehmen Sie bitte mit uns Kontakt auf joram.gruenenberg@hiig
 .de.\n\n&nbsp\;\n\n\n\n&nbsp\;
ATTACH;FMTTYPE=image/jpeg:https://www.hiig.de/wp-content/uploads/2019/05/y
 ou-x-ventures-1439463-unsplash-1.jpg
CATEGORIES:Exploring Digital Spheres
LOCATION:Humboldt Institute for Internet and Society\, Französische Straß
 e 9\, Berlin\, 10117\, Germany
X-APPLE-STRUCTURED-LOCATION;VALUE=URI;X-ADDRESS=Französische Straße 9\, B
 erlin\, 10117\, Germany;X-APPLE-RADIUS=100;X-TITLE=Humboldt Institute for 
 Internet and Society:geo:0,0
END:VEVENT
BEGIN:VTIMEZONE
TZID:Europe/Berlin
X-LIC-LOCATION:Europe/Berlin
BEGIN:DAYLIGHT
DTSTART:20190331T030000
TZOFFSETFROM:+0100
TZOFFSETTO:+0200
TZNAME:CEST
END:DAYLIGHT
END:VTIMEZONE
END:VCALENDAR