BEGIN:VCALENDAR
VERSION:2.0
PRODID:-//wp-events-plugin.com//7.2.3.1//EN
TZID:Europe/Berlin
X-WR-TIMEZONE:Europe/Berlin
BEGIN:VEVENT
UID:708@hiig.de
DTSTART;TZID=Europe/Berlin:20190930T000000
DTEND;TZID=Europe/Berlin:20191002T000000
DTSTAMP:20190628T101534Z
URL:https://www.hiig.de/en/events/impact-school-2019/
SUMMARY:Impact School 2019
DESCRIPTION:The Impact School is an international and interdisciplinary 3-d
 ay training\, targeting young and upcoming researchers.
ATTACH;FMTTYPE=image/jpeg:https://www.hiig.de/wp-content/uploads/2019/06/w
 ebsite-header-logo-1-1.png
LOCATION:Humboldt Institute for Internet and Society\, Französische Straß
 e 9\, Berlin\, 10117\, Germany
X-APPLE-STRUCTURED-LOCATION;VALUE=URI;X-ADDRESS=Französische Straße 9\, B
 erlin\, 10117\, Germany;X-APPLE-RADIUS=100;X-TITLE=Humboldt Institute for 
 Internet and Society:geo:0,0
END:VEVENT
BEGIN:VTIMEZONE
TZID:Europe/Berlin
X-LIC-LOCATION:Europe/Berlin
BEGIN:DAYLIGHT
DTSTART:20190331T030000
TZOFFSETFROM:+0100
TZOFFSETTO:+0200
TZNAME:CEST
END:DAYLIGHT
END:VTIMEZONE
END:VCALENDAR