BEGIN:VCALENDAR
VERSION:2.0
PRODID:-//wp-events-plugin.com//7.2.3.1//EN
TZID:Europe/Berlin
X-WR-TIMEZONE:Europe/Berlin
BEGIN:VEVENT
UID:1476@hiig.de
DTSTART;TZID=Europe/Berlin:20251103T153000
DTEND;TZID=Europe/Berlin:20251103T170000
DTSTAMP:20251015T125802Z
URL:https://www.hiig.de/en/events/humans-machines-in-disharmony-a-walk-thr
 ough-content-moderation/
SUMMARY:Humans & machines in (dis)harmony? – A walk through content moder
 ation
DESCRIPTION:A tour of our case study on (partially) automated decision-maki
 ng processes in the context of content moderation.
ATTACH;FMTTYPE=image/jpeg:https://www.hiig.de/wp-content/uploads/2025/10/F
 eatured-image-–-project-–-19.png
LOCATION:Humboldt Institute for Internet and Society\, Französische Straß
 e 9\, Berlin\, 10117\, Germany
X-APPLE-STRUCTURED-LOCATION;VALUE=URI;X-ADDRESS=Französische Straße 9\, B
 erlin\, 10117\, Germany;X-APPLE-RADIUS=100;X-TITLE=Humboldt Institute for 
 Internet and Society:geo:0,0
END:VEVENT
BEGIN:VTIMEZONE
TZID:Europe/Berlin
X-LIC-LOCATION:Europe/Berlin
BEGIN:STANDARD
DTSTART:20251026T020000
TZOFFSETFROM:+0200
TZOFFSETTO:+0100
TZNAME:CET
END:STANDARD
END:VTIMEZONE
END:VCALENDAR