BEGIN:VCALENDAR
VERSION:2.0
PRODID:-//wp-events-plugin.com//7.2.3.1//EN
TZID:Europe/Berlin
X-WR-TIMEZONE:Europe/Berlin
BEGIN:VEVENT
UID:1379@hiig.de
DTSTART;TZID=Europe/Berlin:20250120T090000
DTEND;TZID=Europe/Berlin:20250120T140000
DTSTAMP:20250805T141101Z
URL:https://www.hiig.de/en/events/human-and-machine-in-lending-decisions/
SUMMARY:Human in the Loop: Human and machine in lending decisions
DESCRIPTION:The final event of the first case study in the Human in the Loo
 p project focuses on the topic of human and machine in lending decisions.
ATTACH;FMTTYPE=image/jpeg:https://www.hiig.de/wp-content/uploads/2024/11/F
 eatured-image-–-hilo.png
LOCATION:Humboldt Institute for Internet and Society\, Französische Straß
 e 9\, Berlin\, 10117\, Germany
X-APPLE-STRUCTURED-LOCATION;VALUE=URI;X-ADDRESS=Französische Straße 9\, B
 erlin\, 10117\, Germany;X-APPLE-RADIUS=100;X-TITLE=Humboldt Institute for 
 Internet and Society:geo:0,0
END:VEVENT
BEGIN:VTIMEZONE
TZID:Europe/Berlin
X-LIC-LOCATION:Europe/Berlin
BEGIN:STANDARD
DTSTART:20241027T020000
TZOFFSETFROM:+0200
TZOFFSETTO:+0100
TZNAME:CET
END:STANDARD
END:VTIMEZONE
END:VCALENDAR