BEGIN:VCALENDAR
VERSION:2.0
PRODID:-//wp-events-plugin.com//7.2.3.1//EN
TZID:Europe/Berlin
X-WR-TIMEZONE:Europe/Berlin
BEGIN:VEVENT
UID:945@hiig.de
DTSTART;TZID=Europe/Berlin:20211116T183000
DTEND;TZID=Europe/Berlin:20211116T210000
DTSTAMP:20211220T115406Z
URL:https://www.hiig.de/en/events/helen-kennedy-everyday-life-in-times-of-
 datafication/
SUMMARY:Helen Kennedy: Everyday life in times of datafication
DESCRIPTION:Helen Kennedy will talk about the relationship between existing
  social inequalities and datafication.
ATTACH;FMTTYPE=image/jpeg:https://www.hiig.de/wp-content/uploads/2021/10/B
 anner_Kennedy-98.png
CATEGORIES:Making sense of the digital society
LOCATION:Auditorium Friedrichstraße\, Friedrichstraße 180\, Berlin\, 1011
 7\, Germany
X-APPLE-STRUCTURED-LOCATION;VALUE=URI;X-ADDRESS=Friedrichstraße 180\, Berl
 in\, 10117\, Germany;X-APPLE-RADIUS=100;X-TITLE=Auditorium Friedrichstraß
 e:geo:0,0
END:VEVENT
BEGIN:VTIMEZONE
TZID:Europe/Berlin
X-LIC-LOCATION:Europe/Berlin
BEGIN:STANDARD
DTSTART:20211031T020000
TZOFFSETFROM:+0200
TZOFFSETTO:+0100
TZNAME:CET
END:STANDARD
END:VTIMEZONE
END:VCALENDAR