BEGIN:VCALENDAR
VERSION:2.0
PRODID:-//wp-events-plugin.com//7.2.3.1//EN
TZID:Europe/Berlin
X-WR-TIMEZONE:Europe/Berlin
BEGIN:VEVENT
UID:66@hiig.de
DTSTART;TZID=Europe/Berlin;VALUE=DATE:20140305
DTEND;TZID=Europe/Berlin;VALUE=DATE:20140308
DTSTAMP:20190417T115550Z
URL:https://www.hiig.de/en/events/general-online-research-conference-2014-
 2/
SUMMARY:General Online Research Conference 2014
DESCRIPTION:The Alexander von Humboldt Institute for Internet and Society (
 HIIG) is partner of the annual General Online Research Conference 2014 (GO
 R14) organized by the German Society for Online Research.
ATTACH;FMTTYPE=image/jpeg:https://www.hiig.de/wp-content/uploads/2013/10/c
 ropped-GOR-Header.jpg
CATEGORIES:Issues in Focus
LOCATION:Former office of the HIIG | Room E27\, Bebelplatz 1\, Berlin\, 101
 17\, Germany
X-APPLE-STRUCTURED-LOCATION;VALUE=URI;X-ADDRESS=Bebelplatz 1\, Berlin\, 101
 17\, Germany;X-APPLE-RADIUS=100;X-TITLE=Former office of the HIIG | Room E
 27:geo:0,0
END:VEVENT
BEGIN:VTIMEZONE
TZID:Europe/Berlin
X-LIC-LOCATION:Europe/Berlin
BEGIN:STANDARD
DTSTART:20131027T020000
TZOFFSETFROM:+0200
TZOFFSETTO:+0100
TZNAME:CET
END:STANDARD
END:VTIMEZONE
END:VCALENDAR