BEGIN:VCALENDAR
VERSION:2.0
PRODID:-//wp-events-plugin.com//7.2.3.1//EN
TZID:Europe/Berlin
X-WR-TIMEZONE:Europe/Berlin
BEGIN:VEVENT
UID:1483@hiig.de
DTSTART;TZID=Europe/Berlin:20260128T160000
DTEND;TZID=Europe/Berlin:20260128T183000
DTSTAMP:20260128T102305Z
URL:https://www.hiig.de/en/events/from-consent-to-control-a-new-tool-for-e
 ffective-self-determination-over-your-data/
SUMMARY:From consent to control: A new tool for effective self-determinatio
 n over your data
DESCRIPTION:At this launch\, we will introduce you to a new consent assista
 nt and discuss effective digital self-determination.
ATTACH;FMTTYPE=image/jpeg:https://www.hiig.de/wp-content/uploads/2025/11/E
 ventseite_ConsenterLaunch-–-3.png
LOCATION:Einstein Center Digital Future\, Wilhelmstraße 67\, Berlin\, 1011
 7\, Germany
X-APPLE-STRUCTURED-LOCATION;VALUE=URI;X-ADDRESS=Wilhelmstraße 67\, Berlin\
 , 10117\, Germany;X-APPLE-RADIUS=100;X-TITLE=Einstein Center Digital Futur
 e:geo:0,0
END:VEVENT
BEGIN:VTIMEZONE
TZID:Europe/Berlin
X-LIC-LOCATION:Europe/Berlin
BEGIN:STANDARD
DTSTART:20251026T020000
TZOFFSETFROM:+0200
TZOFFSETTO:+0100
TZNAME:CET
END:STANDARD
END:VTIMEZONE
END:VCALENDAR