BEGIN:VCALENDAR
VERSION:2.0
PRODID:-//wp-events-plugin.com//7.2.3.1//EN
TZID:Europe/Berlin
X-WR-TIMEZONE:Europe/Berlin
BEGIN:VEVENT
UID:1282@hiig.de
DTSTART;TZID=America/New_York:20240430T100000
DTEND;TZID=America/New_York:20240430T180000
DTSTAMP:20240410T155504Z
URL:https://www.hiig.de/en/events/freedom-of-online-communication-across-t
 ransatlantic-borders/
SUMMARY:Examining Freedom of Online Communication Across Transatlantic Bord
 ers
DESCRIPTION:This academic roundtable juxtaposes current understandings of f
 reedom and fosters intensified transatlantic cooperation.
ATTACH;FMTTYPE=image/jpeg:https://www.hiig.de/wp-content/uploads/2024/04/H
 IIG-Columbia-Examininig-Freedom-of-online-communication-event-picture.png
LOCATION:MLK Tower\, 91 Claremont Avenue\, New York\, 10027\, Riverside Chu
 rch Conference room 52\, MLK Tower \, United States
X-APPLE-STRUCTURED-LOCATION;VALUE=URI;X-ADDRESS=91 Claremont Avenue\, New Y
 ork\, 10027\, Riverside Church Conference room 52\, MLK Tower \, United St
 ates;X-APPLE-RADIUS=100;X-TITLE=MLK Tower:geo:0,0
END:VEVENT
BEGIN:VTIMEZONE
TZID:America/New_York
X-LIC-LOCATION:America/New_York
BEGIN:DAYLIGHT
DTSTART:20240310T030000
TZOFFSETFROM:-0500
TZOFFSETTO:-0400
TZNAME:EDT
END:DAYLIGHT
END:VTIMEZONE
END:VCALENDAR