BEGIN:VCALENDAR
VERSION:2.0
PRODID:-//wp-events-plugin.com//7.2.3.1//EN
TZID:Europe/Berlin
X-WR-TIMEZONE:Europe/Berlin
BEGIN:VEVENT
UID:566@hiig.de
DTSTART;TZID=Europe/Berlin:20180517T183000
DTEND;TZID=Europe/Berlin:20180517T200000
DTSTAMP:20180517T145455Z
URL:https://www.hiig.de/en/events/facebook-forum-community-standards/
SUMMARY:Facebook Forum: Community Standards
DESCRIPTION:On the evening of May 17th the Humboldt Institute for Internet 
 and Society invites to a discussion event about community standards on Fac
 ebook.
ATTACH;FMTTYPE=image/jpeg:https://www.hiig.de/wp-content/uploads/2018/05/3
 1968125_1671436969577016_7284383139537879040_o.png
LOCATION:Humboldt Institute for Internet and Society\, Französische Straß
 e 9\, Berlin\, 10117\, Germany
X-APPLE-STRUCTURED-LOCATION;VALUE=URI;X-ADDRESS=Französische Straße 9\, B
 erlin\, 10117\, Germany;X-APPLE-RADIUS=100;X-TITLE=Humboldt Institute for 
 Internet and Society:geo:0,0
END:VEVENT
BEGIN:VTIMEZONE
TZID:Europe/Berlin
X-LIC-LOCATION:Europe/Berlin
BEGIN:DAYLIGHT
DTSTART:20180325T030000
TZOFFSETFROM:+0100
TZOFFSETTO:+0200
TZNAME:CEST
END:DAYLIGHT
END:VTIMEZONE
END:VCALENDAR